{"text_format":"1","workbook":"xlsx","n_sheets":4,"sheets":["Опросный лист","Габариты","Клеммы","Кабельные вводы"],"not_rendered":{"charts":0,"images":0,"macros":1,"external_links":0,"defined_names":0,"comments":0,"pivot_tables":0},"unopened":[],"bounds":{"document_bytes":16777216,"sheet_cells":100000,"rows_first":2000,"rows_last":500,"rows_between":2000,"halvings":0,"cell_chars":16384,"cell_head_chars":4096},"cells_cut":0,"cells_raw":0,"read":"whole","date_system":"1900"}

{"sheet":"Опросный лист","index":0,"n_rows":116,"n_cols":18,"rows_kept":116,"cut":false,"hidden":false,"merged":[[79,6,79,8],[64,5,64,11],[65,5,65,11],[66,5,66,11],[67,5,67,11],[56,15,56,16],[70,0,71,0],[83,0,87,18],[79,3,79,5],[73,1,73,2],[74,1,74,2],[75,1,75,2],[76,1,76,2],[77,1,77,2],[78,1,78,2],[79,1,79,2],[73,3,73,5],[74,3,74,5],[75,3,75,5],[76,3,76,5],[79,9,79,11],[73,6,73,8],[74,6,74,8],[75,6,75,8],[31,1,32,10],[33,1,33,10],[34,1,34,10],[35,1,35,10],[36,1,36,10],[37,1,37,10],[38,1,38,10],[39,1,39,10],[40,1,40,10],[41,1,41,10],[42,1,42,10],[43,0,47,10],[71,3,71,5],[71,6,71,8],[71,9,71,11],[70,1,70,11],[71,1,71,2],[72,6,72,8],[72,9,72,11],[56,7,56,11],[72,1,72,2],[53,4,53,6],[48,4,49,6],[72,3,72,5],[76,6,76,8],[77,6,77,8],[78,6,78,8],[48,0,49,0],[48,7,49,11],[77,9,77,11],[78,9,78,11],[77,3,77,5],[78,3,78,5],[68,5,68,11],[60,0,60,11],[61,0,61,4],[62,0,62,4],[63,0,63,4],[64,0,64,4],[65,0,65,4],[66,0,66,4],[67,0,67,4],[68,0,68,4],[61,5,61,11],[62,5,62,11],[63,5,63,11],[73,9,73,11],[74,9,74,11],[75,9,75,11],[76,9,76,11],[52,4,52,6],[58,0,59,16],[50,1,50,3],[50,4,50,6],[50,12,50,14],[55,1,55,3],[55,4,55,6],[56,1,56,3],[56,4,56,6],[52,12,52,14],[53,12,53,14],[54,12,54,14],[54,15,54,16],[54,7,54,11],[55,12,55,14],[55,15,55,16],[55,7,55,11],[54,1,54,3],[56,12,56,14],[52,1,52,3],[53,1,53,3],[57,12,57,14],[57,15,57,16],[27,1,27,3],[27,7,27,9],[27,4,27,6],[48,12,49,14],[54,4,54,6],[50,7,50,11],[51,1,51,3],[51,4,51,6],[57,4,57,6],[51,12,51,14],[51,15,51,16],[51,7,51,11],[48,15,49,16],[50,15,50,16],[52,15,52,16],[52,7,52,11],[53,15,53,16],[53,7,53,11],[28,0,29,18],[30,0,30,10],[27,13,27,14],[48,1,49,3],[27,11,27,12],[20,17,20,18],[23,4,23,6],[22,4,22,6],[20,11,20,12],[21,11,21,12],[22,11,22,12],[23,17,23,18],[14,15,17,16],[14,17,17,18],[23,13,23,14],[23,11,23,12],[20,13,20,14],[21,13,21,14],[22,13,22,14],[22,17,22,18],[20,15,20,16],[21,15,21,16],[26,4,26,6],[24,11,24,12],[25,11,25,12],[26,11,26,12],[24,13,24,14],[25,13,25,14],[26,13,26,14],[22,15,22,16],[23,15,23,16],[24,15,24,16],[24,4,24,6],[25,15,25,16],[26,15,26,16],[27,15,27,16],[19,13,19,14],[11,0,13,18],[21,17,21,18],[14,10,17,10],[20,4,20,6],[20,7,20,9],[21,4,21,6],[18,1,18,3],[19,1,19,3],[20,1,20,3],[21,1,21,3],[21,7,21,9],[18,10,27,10],[25,7,25,9],[22,7,22,9],[23,7,23,9],[24,7,24,9],[25,4,25,6],[24,17,24,18],[25,17,25,18],[26,17,26,18],[27,17,27,18],[26,7,26,9],[7,8,10,10],[10,1,10,3],[5,0,6,0],[5,13,6,15],[5,16,6,18],[10,4,10,6],[14,0,17,0],[19,7,19,9],[14,1,16,9],[18,4,18,6],[17,1,17,3],[17,7,17,9],[18,7,18,9],[17,4,17,6],[18,11,18,12],[19,11,19,12],[18,15,18,16],[19,15,19,16],[18,17,18,18],[19,17,19,18],[19,4,19,6],[14,11,17,12],[14,13,17,14],[18,13,18,14],[7,7,9,7],[5,1,6,7],[89,0,89,18],[97,0,105,18],[106,0,114,18],[0,0,0,18],[81,0,82,18],[22,1,22,3],[23,1,23,3],[24,1,24,3],[25,1,25,3],[26,1,26,3],[57,1,57,3],[31,0,32,0],[7,11,10,12],[7,13,10,15],[7,16,10,18],[7,0,10,0],[7,1,9,3],[7,4,9,6],[5,11,6,12],[1,0,2,18],[3,0,4,18],[5,8,6,10]]}
["Опросный лист"]
["Коробка клеммная взрывозащищенная ККВ"]
[]
["Н а з н а ч е н и е :  Коробки клеммные взрывозащищенные ККВ предназначены для размещения клеммных колодок в случае необходимости монтажа их во взрыво-опасных зонах."]
[]
["Обозначение исполнения коробки","Габаритные размеры и массы исполнений ККВ",null,null,null,null,null,null,"Шифр исполнения коробки",null,null,"Шифр исполнения корпуса",null,"Максимальное количество кабельных вводов на сторонах: А/Б/В/Г",null,null,"Конструктивные особенности"]
[]
[{"$f":"Габариты!N4","v":"ЦКЛГ.685631.000"},"Габаритные размеры,                 BxLxH, (мм)",null,null,"Габаритные размеры с кабельными вводами,                 B1xL1xH1, (мм)",null,null,"Масса,    (кг)",{"$f":"Габариты!K4","v":"ККВ - 1"},null,null,{"$f":"Габариты!D27","v":"КВУ-05"},null,{"$f":"Габариты!G27","v":"4/3/4/3"},null,null,{"$f":"Габариты!J27","v":"DIN-рейка типа NS-35/7,5"}]
[]
[]
[null,null,null,null,{"$f":"Габариты!J13","v":"350х350х102"},null,null,{"$f":"Габариты!I4","v":2.5}]
["П р и м е ч а н и я :                                                                                                                                                                                                                                                                                                   1 Исполнения ККВ отличаются размером применяемого корпуса КВУ-05, количеством и типом клемм, количеством, расположением и типом кабельных вводов, выбираемых при заказе;                                          2 Ограничения в таблице по количеству кабельных вводов справедливо для присоединительной резьбы М12, М16 и М20, в остальных случаях количество устанавливаемых вводов согласовывается дополнительно."]
[]
[]
["Совместная установка разных типов клемм в одну коробку (порядковый номер)","Обозначения исполнений по типу клемм",null,null,null,null,null,null,null,null,"Расположение клемм","Максимальное количество клемм (ККВ-1 / ККВ-2 / ККВ-3 / ККВ-4 / ККВ-5)",null,"Сечение жил присоединяемого кабеля, мм2",null,"Максимальное подводимое напряжение, В",null,"Максимальный ток на один контакт, А"]
[]
[]
[null,"Тип клеммы",null,null,"Код исполнения клемм",null,null,"Количество клемм "]
[1,null,null,null,{"$f":"Клеммы!A53","v":"-"},null,null,null,null,null,null,{"$f":"Клеммы!J53","v":"-"},null,{"$f":"Клеммы!K53","v":"-"},null,{"$f":"Клеммы!L53","v":"-"},null,{"$f":"Клеммы!M53","v":"-"}]
[2,null,null,null,{"$f":"Клеммы!A54","v":"-"},null,null,null,null,null,null,{"$f":"Клеммы!J54","v":"-"},null,{"$f":"Клеммы!K54","v":"-"},null,{"$f":"Клеммы!L54","v":"-"},null,{"$f":"Клеммы!M54","v":"-"}]
[3,null,null,null,{"$f":"Клеммы!A55","v":"-"},null,null,null,null,null,null,{"$f":"Клеммы!J55","v":"-"},null,{"$f":"Клеммы!K55","v":"-"},null,{"$f":"Клеммы!L55","v":"-"},null,{"$f":"Клеммы!M55","v":"-"}]
[4,null,null,null,{"$f":"Клеммы!A56","v":"-"},null,null,null,null,null,null,{"$f":"Клеммы!J56","v":"-"},null,{"$f":"Клеммы!K56","v":"-"},null,{"$f":"Клеммы!L56","v":"-"},null,{"$f":"Клеммы!M56","v":"-"}]
[5,null,null,null,{"$f":"Клеммы!A57","v":"-"},null,null,null,null,null,null,{"$f":"Клеммы!J57","v":"-"},null,{"$f":"Клеммы!K57","v":"-"},null,{"$f":"Клеммы!L57","v":"-"},null,{"$f":"Клеммы!M57","v":"-"}]
[6,null,null,null,{"$f":"Клеммы!A58","v":"-"},null,null,null,null,null,null,{"$f":"Клеммы!J58","v":"-"},null,{"$f":"Клеммы!K58","v":"-"},null,{"$f":"Клеммы!L58","v":"-"},null,{"$f":"Клеммы!M58","v":"-"}]
[7,null,null,null,{"$f":"Клеммы!A59","v":"-"},null,null,null,null,null,null,{"$f":"Клеммы!J59","v":"-"},null,{"$f":"Клеммы!K59","v":"-"},null,{"$f":"Клеммы!L59","v":"-"},null,{"$f":"Клеммы!M59","v":"-"}]
[8,null,null,null,{"$f":"Клеммы!A60","v":"-"},null,null,null,null,null,null,{"$f":"Клеммы!J60","v":"-"},null,{"$f":"Клеммы!K60","v":"-"},null,{"$f":"Клеммы!L60","v":"-"},null,{"$f":"Клеммы!M60","v":"-"}]
[9,null,null,null,{"$f":"Клеммы!A61","v":"-"},null,null,null,null,null,null,{"$f":"Клеммы!J61","v":"-"},null,{"$f":"Клеммы!K61","v":"-"},null,{"$f":"Клеммы!L61","v":"-"},null,{"$f":"Клеммы!M61","v":"-"}]
[10,null,null,null,{"$f":"Клеммы!A62","v":"-"},null,null,null,null,null,null,{"$f":"Клеммы!J62","v":"-"},null,{"$f":"Клеммы!K62","v":"-"},null,{"$f":"Клеммы!L62","v":"-"},null,{"$f":"Клеммы!M62","v":"-"}]
["П р и м е ч а н и я:\n1 Тип установленных клемм может отличаться от указанных в таблице клемм фирмы PHOENIX CONTACT.\n2 При установке дополнительных концевых и изолирующих панелей общее число установленных клемм будет меньше, указанного в таблице.                                                                                                                                          "]
[]
["Введите обозначение и основные характеристики требуемых клемм, если в таблице выбран тип клемм \"Другие\"               (Обратите внимание! Вносить информацию необходимо в ту строку, порядковый номер которой совпадает с номером выбранного исполнения типа клемм \"Другие\" в таблице выше)"]
["Порядковый номер выбранных по таблице клемм","Основные характеристики"]
[]
[1]
[2]
[3]
[4]
[5]
[6]
[7]
[8]
[9]
[10]
["Обратите внимание: в комплект поставки ККВ могут быть включены дополнительные монтажные элементы, поставляемые фирмой PHOENIX CONTACT для оборудования клемм (при необходимости поставьте галочку на интересующую Вас позицию):\n     концевые панели для организации нескольких групп клемм;\n     изолирующая панель для выполнения повышенной электроизоляции между соседними клеммами в составе одной группы     (для клемм UK);\n     замыкающие контакты на 2, 3 и 10 позиций;\n     замыкающие контакты для организации электрической связи между разнесенными клеммами."]
[]
[]
[]
[]
["Код исполнения кабельного ввода по диаметру кабеля","Минимальный и максимальный диаметр уплотняемого кабеля, мм",null,null,"Обозначение присоединительной резьбы (справочное)",null,null,"Способ монтажа кабеля",null,null,null,null,"Код исполнения кабельного ввода по способу монтажа кабеля",null,null,"Шифр исполнения кабельного ввода"]
[]
[{"$f":"'Кабельные вводы'!P13","v":"-"},null,null,null,{"$f":"'Кабельные вводы'!Q13","v":"-"},null,null,null,null,null,null,null,{"$f":"'Кабельные вводы'!R13","v":"-"},null,null,{"$f":"'Кабельные вводы'!S13","v":"-"}]
[{"$f":"'Кабельные вводы'!P14","v":"-"},null,null,null,{"$f":"'Кабельные вводы'!Q14","v":"-"},null,null,null,null,null,null,null,{"$f":"'Кабельные вводы'!R14","v":"-"},null,null,{"$f":"'Кабельные вводы'!S14","v":"-"}]
[{"$f":"'Кабельные вводы'!P15","v":"-"},null,null,null,{"$f":"'Кабельные вводы'!Q15","v":"-"},null,null,null,null,null,null,null,{"$f":"'Кабельные вводы'!R15","v":"-"},null,null,{"$f":"'Кабельные вводы'!S15","v":"-"}]
[{"$f":"'Кабельные вводы'!P16","v":"-"},null,null,null,{"$f":"'Кабельные вводы'!Q16","v":"-"},null,null,null,null,null,null,null,{"$f":"'Кабельные вводы'!R16","v":"-"},null,null,{"$f":"'Кабельные вводы'!S16","v":"-"}]
[{"$f":"'Кабельные вводы'!P17","v":"-"},null,null,null,{"$f":"'Кабельные вводы'!Q17","v":"-"},null,null,null,null,null,null,null,{"$f":"'Кабельные вводы'!R17","v":"-"},null,null,{"$f":"'Кабельные вводы'!S17","v":"-"}]
[{"$f":"'Кабельные вводы'!P18","v":"-"},null,null,null,{"$f":"'Кабельные вводы'!Q18","v":"-"},null,null,null,null,null,null,null,{"$f":"'Кабельные вводы'!R18","v":"-"},null,null,{"$f":"'Кабельные вводы'!S18","v":"-"}]
[{"$f":"'Кабельные вводы'!P19","v":"-"},null,null,null,{"$f":"'Кабельные вводы'!Q19","v":"-"},null,null,null,null,null,null,null,{"$f":"'Кабельные вводы'!R19","v":"-"},null,null,{"$f":"'Кабельные вводы'!S19","v":"-"}]
[{"$f":"'Кабельные вводы'!P20","v":"-"},null,null,null,{"$f":"'Кабельные вводы'!Q20","v":"-"},null,null,null,null,null,null,null,{"$f":"'Кабельные вводы'!R20","v":"-"},null,null,{"$f":"'Кабельные вводы'!S20","v":"-"}]
["П р и м е ч а н и я:\n1  При использовании кабельных вводов типа КВВ-2-1 внутрь оболочки клеммной коробки вводится кабель после разделки брони;\n2  Для исполнений КВВ-5 условный проход меньше на 4 мм относительно ДУ металлорукава."]
[]
["Если выбраны исполнения кабельного ввода КВВ-1-1, КВВ-2-1, КВВ-3-1 или КВВ-5-1 укажите дополнительно:                         "]
[{"$f":"'Кабельные вводы'!G79","v":"-"}]
[{"$f":"'Кабельные вводы'!G80","v":"-"}]
[{"$f":"'Кабельные вводы'!G81","v":"-"}]
[{"$f":"'Кабельные вводы'!G82","v":"-"}]
[{"$f":"'Кабельные вводы'!G83","v":"-"}]
[{"$f":"'Кабельные вводы'!G84","v":"-"}]
[{"$f":"'Кабельные вводы'!G85","v":"-"}]
[{"$f":"'Кабельные вводы'!G86","v":"-"}]
[]
["Код исполнения кабельного ввода по диаметру кабеля","Количество кабельных вводов                                                                                                                    (Обратите внимание! Заполняемая Вами строка должна соответствовать порядковому номеру выбранного исполнения кабельного ввода)"]
[null,"Сторона А",null,"Сторона Б",null,null,"Сторона В",null,null,"Сторона Г"]
[{"$f":"IF('Кабельные вводы'!K13=9,\"-\",'Кабельные вводы'!K13)","v":"-"}]
[{"$f":"IF('Кабельные вводы'!K14=9,\"-\",'Кабельные вводы'!K14)","v":"-"}]
[{"$f":"IF('Кабельные вводы'!K15=9,\"-\",'Кабельные вводы'!K15)","v":"-"}]
[{"$f":"IF('Кабельные вводы'!K16=9,\"-\",'Кабельные вводы'!K16)","v":"-"}]
[{"$f":"IF('Кабельные вводы'!K17=9,\"-\",'Кабельные вводы'!K17)","v":"-"}]
[{"$f":"IF('Кабельные вводы'!K18=9,\"-\",'Кабельные вводы'!K18)","v":"-"}]
[{"$f":"IF('Кабельные вводы'!K19=9,\"-\",'Кабельные вводы'!K19)","v":"-"}]
[{"$f":"IF('Кабельные вводы'!K20=9,\"-\",'Кабельные вводы'!K20)","v":"-"}]
[]
["Шифр  исполнения клеменной коробки ККВ"]
[]
[{"$f":"IF(Клеммы!F76=\"???\",Клеммы!H66,IF(NOT(Клеммы!F77=\"НОРМА\"),Клеммы!E66,IF(Клеммы!F78=\"???\",Клеммы!K66,IF(Клеммы!L49=\"Х\",Клеммы!L48,IF('Кабельные вводы'!Q90=\"Х\",'Кабельные вводы'!J28,IF('Кабельные вводы'!R62=\"Х\",'Кабельные вводы'!M28,IF('Кабельные вводы'!R50=\"Х\",'Кабельные вводы'!G28,IF(NOT('Кабельные вводы'!Q91=1),'Кабельные вводы'!P28,CONCATENATE(I8,Клеммы!A49,\" - \",'Кабельные вводы'!A71,\" \",Габариты!N4,\" , \",\"ЦКЛГ.685631.000 ТУ\",\"  \",Клеммы!C97,\" \",'Кабельные вводы'!A98,\" \",Клеммы!E94)))))))))","v":"ККВ - 1 -  ЦКЛГ.685631.000 , ЦКЛГ.685631.000 ТУ    "}]
[]
[]
[]
[]
[]
["ПРИМЕЧАНИЕ: для копирования кода щелкните по нему правой кнопкой мыши и выберите в выплывающем меню пункт \"копировать\""]
[]
[]
[]
[]
[]
[]
[]
[]
[]
[]
[]
[]
[]
[]
[]
[]
[]
[]
[]
[]
[]
[]
[]
[]
[]
[{"$f":"Клеммы!P21","v":""}]

{"sheet":"Габариты","index":1,"n_rows":27,"n_cols":14,"rows_kept":27,"cut":false,"hidden":true,"merged":[[12,9,16,11],[12,8,16,8],[15,4,15,7],[16,4,16,7],[9,0,10,8],[12,4,12,7],[12,0,12,3],[11,0,11,3],[11,4,11,7],[13,0,13,3],[14,0,14,3],[15,0,15,3],[16,0,16,3],[13,4,13,7],[25,6,25,8],[25,0,25,2],[21,3,21,5],[21,0,21,2],[22,0,22,2],[23,0,23,2],[24,0,24,2],[1,13,2,15],[3,13,7,15],[18,3,20,5],[18,0,20,2],[18,6,20,8],[18,9,20,11],[18,12,20,14],[3,10,7,12],[1,10,2,12],[14,4,14,7],[1,8,2,9],[3,8,7,9],[1,1,1,3],[1,0,2,0],[1,4,1,6],[1,7,2,7],[26,3,26,5],[26,6,26,8],[26,9,26,11],[21,9,21,11],[22,9,22,11],[23,9,23,11],[24,9,24,11],[25,9,25,11],[22,3,22,5],[23,3,23,5],[24,3,24,5],[25,3,25,5],[21,6,21,8],[22,6,22,8],[23,6,23,8],[24,6,24,8]]}
[]
["Шифр исполнения","Габаритные размеры",null,null,"Габаритные размеры с кабельными вводами",null,null,"Масса, кг","Масса",null,"Обозначение",null,null,"Обозначение исполнения"]
[null,"B, мм","L, мм","H, мм","B1, мм","L1, мм","H1, мм"]
["ККВ-1",217,221,102,350,350,102,2.5,{"$f":"IF(Габариты!I13=1,Габариты!H4,IF(Габариты!I13=2,Габариты!H5,IF(Габариты!I13=3,Габариты!H6,IF(Габариты!I13=4,Габариты!H7,IF(Габариты!I13=5,Габариты!H8,0)))))","v":2.5},null,{"$f":"IF(Габариты!I13=1,\"ККВ - 1\",IF(Габариты!I13=2,\"ККВ - 2\",IF(Габариты!I13=3,\"ККВ - 3\",IF(Габариты!I13=4,\"ККВ - 4\",IF(Габариты!I13=5,\"ККВ - 5\",0)))))","v":"ККВ - 1"},null,null,{"$f":"IF(I13=1,A22,IF(I13=2,A23,IF(I13=3,A24,IF(I13=4,A25,IF(I13=5,A26)))))","v":"ЦКЛГ.685631.000"}]
["ККВ-2",217,322,102,350,390,102,5.8]
["ККВ-3",137,117,76,137,270,76,1.5]
["ККВ-4",460,495,280,620,620,340,43]
["ККВ-5",360,390,224,465,465,224,25]
[]
["Габаритные размеры и массы исполнений ККВ приведенные в таблице"]
[]
["Габаритные размеры (мм)",null,null,null,"Габаритные размеры с кабельными вводами (мм)",null,null,null,"Код"]
["217х221х102",null,null,null,"350х350х102",null,null,null,1,{"$f":"IF(I13=1,E13,IF(I13=2,E14,IF(I13=3,E15,IF(I13=4,E16,IF(I13=5,E17,)))))","v":"350х350х102"}]
["217х322х102",null,null,null,"350х390х102",null,null,null,4]
["137х117х76",null,null,null,"137х270х76"]
["460х495х280",null,null,null,"620х620х340"]
["360х390х224",null,null,null,"465х465х224"]
[]
["Обозначение исполнения коробки",null,null,"Шифр исполнения корпуса",null,null,"Максимальное количество кабельных вводов на сторонах: А/Б/В/Г",null,null,"Конструктивные особенности"]
[]
[]
["ЦКЛГ.685631.000",null,null,"КВУ-05",null,null,"4/3/4/3",null,null,"DIN-рейка типа NS-35/7,5"]
["ЦКЛГ.685631.000-01",null,null,"КВУ-05-01",null,null,"6/3/6/3",null,null,"DIN-рейка типа NS-35/7,5"]
["ЦКЛГ.685631.000-02",null,null,"КВУ-05-02",null,null,"2/0/2/0",null,null,"DIN-рейка типа NS-35/7,5"]
["ЦКЛГ.685631.000-03",null,null,"КВУ-05-03",null,null,"25/25/25/25",null,null,"Монтажная панель"]
["ЦКЛГ.685631.000-04",null,null,"КВУ-05-06",null,null,"10/10/10/10",null,null,"Монтажная панель или DIN-рейка типа NS-35/7,5"]
[null,null,null,{"$f":"IF(I13=1,D22,IF(I13=2,D23,IF(I13=3,D24,IF(I13=4,D25,IF(I13=5,D26)))))","v":"КВУ-05"},null,null,{"$f":"IF(I13=1,G22,IF(I13=2,G23,IF(I13=3,G24,IF(I13=4,G25,IF(I13=5,G26)))))","v":"4/3/4/3"},null,null,{"$f":"IF(I13=1,J22,IF(I13=2,J23,IF(I13=3,J24,IF(I13=4,J25,IF(I13=5,J26)))))","v":"DIN-рейка типа NS-35/7,5"}]

{"sheet":"Клеммы","index":2,"n_rows":97,"n_cols":16,"rows_kept":97,"cut":false,"hidden":true,"merged":[[88,14,88,16],[90,6,90,13],[91,6,91,13],[89,14,89,16],[90,14,90,16],[91,14,91,16],[93,4,96,14],[84,7,84,12],[84,5,84,6],[85,7,85,12],[86,7,86,12],[87,7,87,12],[85,5,85,6],[86,5,86,6],[87,5,87,6],[88,4,88,5],[89,4,89,5],[88,6,88,13],[89,6,89,13],[66,0,66,3],[53,0,53,2],[61,3,61,4],[61,0,61,2],[54,0,54,2],[55,0,55,2],[56,0,56,2],[57,0,57,2],[58,0,58,2],[60,0,60,2],[59,0,59,2],[64,0,64,3],[65,0,65,3],[53,3,53,4],[54,3,54,4],[55,3,55,4],[56,3,56,4],[57,3,57,4],[58,3,58,4],[59,3,59,4],[65,4,65,6],[64,4,64,6],[81,4,83,13],[75,0,77,3],[70,0,70,3],[71,0,71,3],[72,0,72,3],[73,0,73,3],[74,0,74,3],[67,0,67,3],[68,0,68,3],[69,0,69,3],[1,2,5,2],[1,1,5,1],[18,10,19,10],[20,1,31,1],[20,2,31,2],[1,0,5,0],[1,4,5,4],[1,3,5,3],[1,10,5,10],[18,2,19,2],[18,3,19,3],[18,4,19,4],[18,5,19,5],[18,6,19,6],[18,7,19,7],[18,8,19,8],[18,9,19,9],[1,5,4,9],[14,11,14,13],[15,11,15,13],[16,11,16,13],[27,13,27,16],[18,0,19,0],[50,0,51,2],[48,0,48,6],[45,0,45,6],[47,0,47,6],[20,3,31,3],[20,4,31,4],[20,5,31,5],[20,6,31,6],[18,1,19,1],[50,3,51,5],[50,7,51,7],[50,6,51,6],[33,9,40,19],[20,7,31,7],[20,8,31,8],[20,9,31,9],[20,10,31,10],[25,13,25,16],[35,0,35,6],[64,7,64,9],[65,7,65,9],[52,0,52,2],[28,13,28,16],[29,13,29,16],[24,12,24,16],[52,7,61,7],[36,0,36,6],[42,0,42,6],[43,0,43,6],[41,0,41,6],[40,0,40,6],[39,0,39,6],[38,0,38,6],[37,0,37,6],[44,0,44,6],[46,0,46,6],[52,6,61,6],[52,3,52,4],[60,3,60,4],[64,10,64,12],[65,10,65,12],[47,11,47,17],[1,14,5,15],[6,14,6,15],[7,14,7,15],[8,14,8,15],[9,14,9,15],[10,14,10,15],[11,14,11,15],[12,14,12,15],[26,13,26,16],[13,14,13,15],[1,11,5,13],[6,11,6,13],[7,11,7,13],[8,11,8,13],[9,11,9,13],[10,11,10,13],[11,11,11,13],[12,11,12,13],[13,11,13,13],[14,14,14,15],[15,14,15,15],[16,14,16,15],[20,12,20,13],[21,12,21,13]]}
[]
["Код исполнения клемм","Тип конструкции клемм","Сечение жил присоединяемого кабеля, мм2","Максимальное подводимое напряжение, В","Максимальный ток на один контакт, А","Максимальное количество клемм",null,null,null,null,"Примечание","Максимальное количество клемм (ККВ-1/ККВ-2/ККВ-3/ККВ-4/ККВ-5)",null,null,"Ширина клеммы, мм"]
[]
[]
[]
[null,null,null,null,null,"ККВ-1","ККВ-2","ККВ-3","ККВ-4","ККВ-5"]
[1,"UK 2,5N","0,2 – 2,5",550,22,{"$f":"ROUND(N26/O7,0)","v":23},{"$f":"ROUND(N27/O7,0)","v":41},{"$f":"ROUND(N28/O7,0)","v":15},{"$f":"ROUND(N29/O7,0)","v":184},{"$f":"ROUND(N30/O7,0)","v":82},"-",{"$f":"CONCATENATE(F7,\"/\",G7,\"/\",H7,\"/\",I7,\"/\",J7)","v":"23/41/15/184/82"},null,null,5.5]
[2,"UK 5N","0,2 – 4,0",690,32,{"$f":"ROUND(N26/O8,0)","v":20},{"$f":"ROUND(N27/O8,0)","v":36},{"$f":"ROUND(N28/O8,0)","v":13},{"$f":"ROUND(N30/O8,0)","v":73},{"$f":"ROUND(N30/O8,0)","v":73},"-",{"$f":"CONCATENATE(F8,\"/\",G8,\"/\",H8,\"/\",I8,\"/\",J8)","v":"20/36/13/73/73"},null,null,6.2]
[3,"MBKKB 2,5","0,2 – 2,5",275,22,{"$f":"ROUND(N26/O9,0)","v":23},{"$f":"ROUND(N27/O9,0)","v":41},{"$f":"ROUND(N28/O9,0)","v":15},{"$f":"ROUND(N29/O9,0)","v":184},{"$f":"ROUND(N30/O9,0)","v":82},"Контакты в двух уровнях",{"$f":"CONCATENATE(F9,\"/\",G9,\"/\",H9,\"/\",I9,\"/\",J9)","v":"23/41/15/184/82"},null,null,5.5]
[4,"UKK 5","0,2 – 4,0",500,32,{"$f":"ROUND(N26/O10,0)","v":20},{"$f":"ROUND(N27/O9,0)","v":41},{"$f":"ROUND(N28/O9,0)","v":15},{"$f":"ROUND(N29/O9,0)","v":184},{"$f":"ROUND(N30/O9,0)","v":82},"Контакты в двух уровнях","20/41/15/184/82",null,null,6.2]
[5,"USLKG 2,5N","0,2 – 2,5","-","-",{"$f":"ROUND(N26/O11,0)","v":23},{"$f":"ROUND(N27/O11,0)","v":41},{"$f":"ROUND(N28/O11,0)","v":15},{"$f":"ROUND(N29/O11,0)","v":184},{"$f":"ROUND(N30/O11,0)","v":82},"Заземляющий контакт","23/41/15/184/82",null,null,5.5]
[6,"UDK3","0,2 – 4,0",500,32,{"$f":"ROUND(N26/O12,0)","v":24},{"$f":"ROUND(N27/O12,0)","v":43},{"$f":"ROUND(N28/O12,0)","v":15},{"$f":"ROUND(N29/O12,0)","v":195},{"$f":"ROUND(N30/O12,0)","v":87},"Контакты дублированы","24/43/15/195/87",null,null,5.2]
[7,"UK16N","0,4 – 16,0",690,57,{"$f":"ROUND(N26/O13,0)","v":10},{"$f":"ROUND(N27/O13,0)","v":18},{"$f":"ROUND(N28/O13,0)","v":7},{"$f":"ROUND(N29/O13,0)","v":83},{"$f":"ROUND(N30/O13,0)","v":37},"-","10/18/7/83/37",null,null,12.2]
[8,"UK6N","0,2 – 6,0",690,43,{"$f":"ROUND(N26/O14,0)","v":15},{"$f":"ROUND(N27/O14,0)","v":27},{"$f":"ROUND(N28/O14,0)","v":10},{"$f":"ROUND(N29/O14,0)","v":124},{"$f":"ROUND(N30/O14,0)","v":55},"-","15/27/10/124/55",null,null,8.1999999999999993]
[9,"UKK3","0,2 – 4,0",500,32,{"$f":"ROUND(N26/O15,0)","v":24},{"$f":"ROUND(N27/O15,0)","v":43},{"$f":"ROUND(N28/O15,0)","v":15},{"$f":"ROUND(N29/O15,0)","v":195},{"$f":"ROUND(N30/O15,0)","v":87},"Контакты в двух уровнях","24/43/15/195/87",null,null,5.2]
["А","UDK4","0,2 – 4,0",630,32,{"$f":"ROUND(N26/O16,0)","v":20},{"$f":"ROUND(N27/O16,0)","v":36},{"$f":"ROUND(N28/O16,0)","v":13},{"$f":"ROUND(N29/O16,0)","v":163},{"$f":"ROUND(N30/O16,0)","v":73},"Контакты дублированы","20/36/13/163/73",null,null,6.2]
[null,"Другие","-","-","-","-","-","-","-","-",null,"-"]
[]
["Тип клемм","КОД 1","КОД 2","КОД 3","КОД 4","КОД 5","КОД 6","КОД 7","КОД 8","КОД 9","КОД 10"]
[]
["UK 2,5N",11,11,11,11,11,11,11,11,11,11,null,"однорядное",null,null,{"$f":"IF(OR(B21=12,C21=12,D21=12,E21=12,F21=12,G21=12,H21=12,I21=12,J21=12,K21=12),12,\"\")","v":""}]
["UK 5N",null,null,null,null,null,null,null,null,null,null,null,"двухрядное"]
["MBKKB 2,5 (контакты в двух уровнях)"]
["UKK 5 (контакты в двух уровнях)"]
["USLKG 2,5N (заземляющий контакт)",null,null,null,null,null,null,null,null,null,null,null,"Установочный размер коробки, мм"]
["UDK3 (контакты дублированы)",null,null,null,null,null,null,null,null,null,null,null,"ККВ-1",125]
["UK16N",null,null,null,null,null,null,null,null,null,null,null,"ККВ-2",225]
["UK6N",null,null,null,null,null,null,null,null,null,null,null,"ККВ-3",80]
["UKK3 (контакты в двух уровнях)",null,null,null,null,null,null,null,null,null,null,null,"ККВ-4",{"$f":"ROUND(N27*1.5*3,0)","v":1013}]
["UDK4 (контакты дублированы)",null,null,null,null,null,null,null,null,null,null,null,"ККВ-5",{"$f":"N27*2","v":450}]
["-"]
["Другие"]
[]
[null,null,null,null,null,null,null,null,null,{"$f":"'Опросный лист'!A84","v":"ККВ - 1 -  ЦКЛГ.685631.000 , ЦКЛГ.685631.000 ТУ    "}]
[]
[{"$f":"IF(AND(G53=1,B21=1,D53<=F7),D53,IF(AND(G53=1,B21=2,D53<=F8),D53,IF(AND(G53=1,B21=3,D53<=F9),D53,IF(AND(G53=1,B21=4,D53<=F10),D53,IF(AND(G53=1,B21=5,D53<=F11),D53,IF(AND(G53=1,B21=6,D53<=F12),D53,IF(AND(G53=1,B21=7,D53<=F13),D53,IF(AND(G53=1,B21=8,D53<=F14),D53,IF(AND(G53=1,B21=9,D53<=F15),D53,IF(AND(G53=1,B21=10,D53<=F16),D53,IF(AND(G53=2,B21=1,D53<=G7),D53,IF(AND(G53=2,B21=2,D53<=G8),D53,IF(AND(G53=2,B21=3,D53<=G9),D53,IF(AND(G53=2,B21=4,D53<=G10),D53,IF(AND(G53=2,B21=5,D53<=G11),D53,IF(AND(G53=2,B21=6,D53<=G12),D53,IF(AND(G53=2,B21=7,D53<=G13),D53,IF(AND(G53=2,B21=8,D53<=G14),D53,IF(AND(G53=2,B21=9,D53<=G15),D53,IF(AND(G53=2,B21=10,D53<=G16),D53,IF(AND(G53=3,B21=1,D53<=H7),D53,IF(AND(G53=3,B21=2,D53<=H8),D53,IF(AND(G53=3,B21=3,D53<=H9),D53,IF(AND(G53=3,B21=4,D53<=H10),D53,IF(AND(G53=3,B21=5,D53<=H11),D53,IF(AND(G53=3,B21=6,D53<=H12),D53,IF(AND(G53=3,B21=7,D53<=H13),D53,IF(AND(G53=3,B21=8,D53<=H14),D53,IF(AND(G53=3,B21=9,D53<=H15),D53,IF(AND(G53=3,B21=10,D53<=H16),D53,IF(AND(G53=4,B21=1,D53<=I7),D53,IF(AND(G53=4,B21=2,D53<=I8),D53,IF(AND(G53=4,B21=3,D53<=I9),D53,IF(AND(G53=4,B21=4,D53<=I10),D53,IF(AND(G53=4,B21=5,D53<=I11),D53,IF(AND(G53=4,B21=6,D53<=I12),D53,IF(AND(G53=4,B21=7,D53<=I13),D53,IF(AND(G53=4,B21=8,D53<=I14),D53,IF(AND(G53=4,B21=9,D53<=I15),D53,IF(AND(G53=4,B21=10,D53<=I16),D53,IF(AND(G53=5,B21=1,D53<=J7),D53,IF(AND(G53=5,B21=2,D53<=J8),D53,IF(AND(G53=5,B21=3,D53<=J9),D53,IF(AND(G53=5,B21=4,D53<=J10),D53,IF(AND(G53=5,B21=5,D53<=J11),D53,IF(AND(G53=5,B21=6,D53<=J12),D53,IF(AND(G53=5,B21=7,D53<=J13),D53,IF(AND(G53=5,B21=8,D53<=J14),D53,IF(AND(G53=5,B21=9,D53<=I15),D53,IF(AND(G53=5,B21=10,D53<=I16),D53,IF(AND(OR(G53=1,G53=2,G53=3,G53=4,G53=5),B21=12,NOT(F53=0)),D53,A76)))))))))))))))))))))))))))))))))))))))))))))))))))","v":"Норма"}]
[{"$f":"IF(AND(G53=1,C21=1,D54<=F7),D54,IF(AND(G53=1,C21=2,D54<=F8),D54,IF(AND(G53=1,C21=3,D54<=F9),D54,IF(AND(G53=1,C21=4,D54<=F10),D54,IF(AND(G53=1,C21=5,D54<=F11),D54,IF(AND(G53=1,C21=6,D54<=F12),D54,IF(AND(G53=1,C21=7,D54<=F13),D54,IF(AND(G53=1,C21=8,D54<=F14),D54,IF(AND(G53=1,C21=9,D54<=F15),D54,IF(AND(G53=1,C21=10,D54<=F16),D54,IF(AND(G53=2,C21=1,D54<=G7),D54,IF(AND(G53=2,C21=2,D54<=G8),D54,IF(AND(G53=2,C21=3,D54<=G9),D54,IF(AND(G53=2,C21=4,D54<=G10),D54,IF(AND(G53=2,C21=5,D54<=G11),D54,IF(AND(G53=2,C21=6,D54<=G12),D54,IF(AND(G53=2,C21=7,D54<=G13),D54,IF(AND(G53=2,C21=8,D54<=G14),D54,IF(AND(G53=2,C21=9,D54<=G15),D54,IF(AND(G53=2,C21=10,D54<=G16),D54,IF(AND(G53=3,C21=1,D54<=H7),D54,IF(AND(G53=3,C21=2,D54<=H8),D54,IF(AND(G53=3,C21=3,D54<=H9),D54,IF(AND(G53=3,C21=4,D54<=H10),D54,IF(AND(G53=3,C21=5,D54<=H11),D54,IF(AND(G53=3,C21=6,D54<=H12),D54,IF(AND(G53=3,C21=7,D54<=H13),D54,IF(AND(G53=3,C21=8,D54<=H14),D54,IF(AND(G53=3,C21=9,D54<=H15),D54,IF(AND(G53=3,C21=10,D54<=H16),D54,IF(AND(G53=4,C21=1,D54<=I7),D54,IF(AND(G53=4,C21=2,D54<=I8),D54,IF(AND(G53=4,C21=3,D54<=I9),D54,IF(AND(G53=4,C21=4,D54<=I10),D54,IF(AND(G53=4,C21=5,D54<=I11),D54,IF(AND(G53=4,C21=6,D54<=I12),D54,IF(AND(G53=4,C21=7,D54<=I13),D54,IF(AND(G53=4,C21=8,D54<=I14),D54,IF(AND(G53=4,C21=9,D54<=I15),D54,IF(AND(G53=4,C21=10,D54<=I16),D54,IF(AND(G53=5,C21=1,D54<=J7),D54,IF(AND(G53=5,C21=2,D54<=J8),D54,IF(AND(G53=5,C21=3,D54<=J9),D54,IF(AND(G53=5,C21=4,D54<=J10),D54,IF(AND(G53=5,C21=5,D54<=J11),D54,IF(AND(G53=5,C21=6,D54<=J12),D54,IF(AND(G53=5,C21=7,D54<=J13),D54,IF(AND(G53=5,C21=8,D54<=J14),D54,IF(AND(G53=5,C21=9,D54<=I15),D54,IF(AND(G53=5,C21=10,D54<=I16),D54,IF(AND(OR(G53=1,G53=2,G53=3,G53=4,G53=5),C21=12,NOT(F54=0)),D54,A76)))))))))))))))))))))))))))))))))))))))))))))))))))","v":"Норма"}]
[{"$f":"IF(AND(G53=1,D21=1,D55<=F7),D55,IF(AND(G53=1,D21=2,D55<=F8),D55,IF(AND(G53=1,D21=3,D55<=F9),D55,IF(AND(G53=1,D21=4,D55<=F10),D55,IF(AND(G53=1,D21=5,D55<=F11),D55,IF(AND(G53=1,D21=6,D55<=F12),D55,IF(AND(G53=1,D21=7,D55<=F13),D55,IF(AND(G53=1,D21=8,D55<=F14),D55,IF(AND(G53=1,D21=9,D55<=F15),D55,IF(AND(G53=1,D21=10,D55<=F16),D55,IF(AND(G53=2,D21=1,D55<=G7),D55,IF(AND(G53=2,D21=2,D55<=G8),D55,IF(AND(G53=2,D21=3,D55<=G9),D55,IF(AND(G53=2,D21=4,D55<=G10),D55,IF(AND(G53=2,D21=5,D55<=G11),D55,IF(AND(G53=2,D21=6,D55<=G12),D55,IF(AND(G53=2,D21=7,D55<=G13),D55,IF(AND(G53=2,D21=8,D55<=G14),D55,IF(AND(G53=2,D21=9,D55<=G15),D55,IF(AND(G53=2,D21=10,D55<=G16),D55,IF(AND(G53=3,D21=1,D55<=H7),D55,IF(AND(G53=3,D21=2,D55<=H8),D55,IF(AND(G53=3,D21=3,D55<=H9),D55,IF(AND(G53=3,D21=4,D55<=H10),D55,IF(AND(G53=3,D21=5,D55<=H11),D55,IF(AND(G53=3,D21=6,D55<=H12),D55,IF(AND(G53=3,D21=7,D55<=H13),D55,IF(AND(G53=3,D21=8,D55<=H14),D55,IF(AND(G53=3,D21=9,D55<=H15),D55,IF(AND(G53=3,D21=10,D55<=H16),D55,IF(AND(G53=4,D21=1,D55<=I7),D55,IF(AND(G53=4,D21=2,D55<=I8),D55,IF(AND(G53=4,D21=3,D55<=I9),D55,IF(AND(G53=4,D21=4,D55<=I10),D55,IF(AND(G53=4,D21=5,D55<=I11),D55,IF(AND(G53=4,D21=6,D55<=I12),D55,IF(AND(G53=4,D21=7,D55<=I13),D55,IF(AND(G53=4,D21=8,D55<=I14),D55,IF(AND(G53=4,D21=9,D55<=I15),D55,IF(AND(G53=4,D21=10,D55<=I16),D55,IF(AND(G53=5,D21=1,D55<=J7),D55,IF(AND(G53=5,D21=2,D55<=J8),D55,IF(AND(G53=5,D21=3,D55<=J9),D55,IF(AND(G53=5,D21=4,D55<=J10),D55,IF(AND(G53=5,D21=5,D55<=J11),D55,IF(AND(G53=5,D21=6,D55<=J12),D55,IF(AND(G53=5,D21=7,D55<=J13),D55,IF(AND(G53=5,D21=8,D55<=J14),D55,IF(AND(G53=5,D21=9,D55<=I15),D55,IF(AND(G53=5,D21=10,D55<=I16),D55,IF(AND(OR(G53=1,G53=2,G53=3,G53=4,G53=5),D21=12,NOT(F55=0)),D55,A76)))))))))))))))))))))))))))))))))))))))))))))))))))","v":"Норма"}]
[{"$f":"IF(AND(G53=1,E21=1,D56<=F7),D56,IF(AND(G53=1,E21=2,D56<=F8),D56,IF(AND(G53=1,E21=3,D56<=F9),D56,IF(AND(G53=1,E21=4,D56<=F10),D56,IF(AND(G53=1,E21=5,D56<=F11),D56,IF(AND(G53=1,E21=6,D56<=F12),D56,IF(AND(G53=1,E21=7,D56<=F13),D56,IF(AND(G53=1,E21=8,D56<=F14),D56,IF(AND(G53=1,E21=9,D56<=F15),D56,IF(AND(G53=1,E21=10,D56<=F16),D56,IF(AND(G53=2,E21=1,D56<=G7),D56,IF(AND(G53=2,E21=2,D56<=G8),D56,IF(AND(G53=2,E21=3,D56<=G9),D56,IF(AND(G53=2,E21=4,D56<=G10),D56,IF(AND(G53=2,E21=5,D56<=G11),D56,IF(AND(G53=2,E21=6,D56<=G12),D56,IF(AND(G53=2,E21=7,D56<=G13),D56,IF(AND(G53=2,E21=8,D56<=G14),D56,IF(AND(G53=2,E21=9,D56<=G15),D56,IF(AND(G53=2,E21=10,D56<=G16),D56,IF(AND(G53=3,E21=1,D56<=H7),D56,IF(AND(G53=3,E21=2,D56<=H8),D56,IF(AND(G53=3,E21=3,D56<=H9),D56,IF(AND(G53=3,E21=4,D56<=H10),D56,IF(AND(G53=3,E21=5,D56<=H11),D56,IF(AND(G53=3,E21=6,D56<=H12),D56,IF(AND(G53=3,E21=7,D56<=H13),D56,IF(AND(G53=3,E21=8,D56<=H14),D56,IF(AND(G53=3,E21=9,D56<=H15),D56,IF(AND(G53=3,E21=10,D56<=H16),D56,IF(AND(G53=4,E21=1,D56<=I7),D56,IF(AND(G53=4,E21=2,D56<=I8),D56,IF(AND(G53=4,E21=3,D56<=I9),D56,IF(AND(G53=4,E21=4,D56<=I10),D56,IF(AND(G53=4,E21=5,D56<=I11),D56,IF(AND(G53=4,E21=6,D56<=I12),D56,IF(AND(G53=4,E21=7,D56<=I13),D56,IF(AND(G53=4,E21=8,D56<=I14),D56,IF(AND(G53=4,E21=9,D56<=I15),D56,IF(AND(G53=4,E21=10,D56<=I16),D56,IF(AND(G53=5,E21=1,D56<=J7),D56,IF(AND(G53=5,E21=2,D56<=J8),D56,IF(AND(G53=5,E21=3,D56<=J9),D56,IF(AND(G53=5,E21=4,D56<=J10),D56,IF(AND(G53=5,E21=5,D56<=J11),D56,IF(AND(G53=5,E21=6,D56<=J12),D56,IF(AND(G53=5,E21=7,D56<=J13),D56,IF(AND(G53=5,E21=8,D56<=J14),D56,IF(AND(G53=5,E21=9,D56<=I15),D56,IF(AND(G53=5,E21=10,D56<=I16),D56,IF(AND(OR(G53=1,G53=2,G53=3,G53=4,G53=5),E21=12,NOT(F56=0)),D56,A76)))))))))))))))))))))))))))))))))))))))))))))))))))","v":"Норма"}]
[{"$f":"IF(AND(G53=1,F21=1,D57<=F7),D57,IF(AND(G53=1,F21=2,D57<=F8),D57,IF(AND(G53=1,F21=3,D57<=F9),D57,IF(AND(G53=1,F21=4,D57<=F10),D57,IF(AND(G53=1,F21=5,D57<=F11),D57,IF(AND(G53=1,F21=6,D57<=F12),D57,IF(AND(G53=1,F21=7,D57<=F13),D57,IF(AND(G53=1,F21=8,D57<=F14),D57,IF(AND(G53=1,F21=9,D57<=F15),D57,IF(AND(G53=1,F21=10,D57<=F16),D57,IF(AND(G53=2,F21=1,D57<=G7),D57,IF(AND(G53=2,F21=2,D57<=G8),D57,IF(AND(G53=2,F21=3,D57<=G9),D57,IF(AND(G53=2,F21=4,D57<=G10),D57,IF(AND(G53=2,F21=5,D57<=G11),D57,IF(AND(G53=2,F21=6,D57<=G12),D57,IF(AND(G53=2,F21=7,D57<=G13),D57,IF(AND(G53=2,F21=8,D57<=G14),D57,IF(AND(G53=2,F21=9,D57<=G15),D57,IF(AND(G53=2,F21=10,D57<=G16),D57,IF(AND(G53=3,F21=1,D57<=H7),D57,IF(AND(G53=3,F21=2,D57<=H8),D57,IF(AND(G53=3,F21=3,D57<=H9),D57,IF(AND(G53=3,F21=4,D57<=H10),D57,IF(AND(G53=3,F21=5,D57<=H11),D57,IF(AND(G53=3,F21=6,D57<=H12),D57,IF(AND(G53=3,F21=7,D57<=H13),D57,IF(AND(G53=3,F21=8,D57<=H14),D57,IF(AND(G53=3,F21=9,D57<=H15),D57,IF(AND(G53=3,F21=10,D57<=H16),D57,IF(AND(G53=4,F21=1,D57<=I7),D57,IF(AND(G53=4,F21=2,D57<=I8),D57,IF(AND(G53=4,F21=3,D57<=I9),D57,IF(AND(G53=4,F21=4,D57<=I10),D57,IF(AND(G53=4,F21=5,D57<=I11),D57,IF(AND(G53=4,F21=6,D57<=I12),D57,IF(AND(G53=4,F21=7,D57<=I13),D57,IF(AND(G53=4,F21=8,D57<=I14),D57,IF(AND(G53=4,F21=9,D57<=I15),D57,IF(AND(G53=4,F21=10,D57<=I16),D57,IF(AND(G53=5,F21=1,D57<=J7),D57,IF(AND(G53=5,F21=2,D57<=J8),D57,IF(AND(G53=5,F21=3,D57<=J9),D57,IF(AND(G53=5,F21=4,D57<=J10),D57,IF(AND(G53=5,F21=5,D57<=J11),D57,IF(AND(G53=5,F21=6,D57<=J12),D57,IF(AND(G53=5,F21=7,D57<=J13),D57,IF(AND(G53=5,F21=8,D57<=J14),D57,IF(AND(G53=5,F21=9,D57<=I15),D57,IF(AND(G53=5,F21=10,D57<=I16),D57,IF(AND(OR(G53=1,G53=2,G53=3,G53=4,G53=5),F21=12,NOT(F57=0)),D57,A76)))))))))))))))))))))))))))))))))))))))))))))))))))","v":"Норма"}]
[{"$f":"IF(AND(G53=1,G21=1,D58<=F7),D58,IF(AND(G53=1,G21=2,D58<=F8),D58,IF(AND(G53=1,G21=3,D58<=F9),D58,IF(AND(G53=1,G21=4,D58<=F10),D58,IF(AND(G53=1,G21=5,D58<=F11),D58,IF(AND(G53=1,G21=6,D58<=F12),D58,IF(AND(G53=1,G21=7,D58<=F13),D58,IF(AND(G53=1,G21=8,D58<=F14),D58,IF(AND(G53=1,G21=9,D58<=F15),D58,IF(AND(G53=1,G21=10,D58<=F16),D58,IF(AND(G53=2,G21=1,D58<=G7),D58,IF(AND(G53=2,G21=2,D58<=G8),D58,IF(AND(G53=2,G21=3,D58<=G9),D58,IF(AND(G53=2,G21=4,D58<=G10),D58,IF(AND(G53=2,G21=5,D58<=G11),D58,IF(AND(G53=2,G21=6,D58<=G12),D58,IF(AND(G53=2,G21=7,D58<=G13),D58,IF(AND(G53=2,G21=8,D58<=G14),D58,IF(AND(G53=2,G21=9,D58<=G15),D58,IF(AND(G53=2,G21=10,D58<=G16),D58,IF(AND(G53=3,G21=1,D58<=H7),D58,IF(AND(G53=3,G21=2,D58<=H8),D58,IF(AND(G53=3,G21=3,D58<=H9),D58,IF(AND(G53=3,G21=4,D58<=H10),D58,IF(AND(G53=3,G21=5,D58<=H11),D58,IF(AND(G53=3,G21=6,D58<=H12),D58,IF(AND(G53=3,G21=7,D58<=H13),D58,IF(AND(G53=3,G21=8,D58<=H14),D58,IF(AND(G53=3,G21=9,D58<=H15),D58,IF(AND(G53=3,G21=10,D58<=H16),D58,IF(AND(G53=4,G21=1,D58<=I7),D58,IF(AND(G53=4,G21=2,D58<=I8),D58,IF(AND(G53=4,G21=3,D58<=I9),D58,IF(AND(G53=4,G21=4,D58<=I10),D58,IF(AND(G53=4,G21=5,D58<=I11),D58,IF(AND(G53=4,G21=6,D58<=I12),D58,IF(AND(G53=4,G21=7,D58<=I13),D58,IF(AND(G53=4,G21=8,D58<=I14),D58,IF(AND(G53=4,G21=9,D58<=I15),D58,IF(AND(G53=4,G21=10,D58<=I16),D58,IF(AND(G53=5,G21=1,D58<=J7),D58,IF(AND(G53=5,G21=2,D58<=J8),D58,IF(AND(G53=5,G21=3,D58<=J9),D58,IF(AND(G53=5,G21=4,D58<=J10),D58,IF(AND(G53=5,G21=5,D58<=J11),D58,IF(AND(G53=5,G21=6,D58<=J12),D58,IF(AND(G53=5,G21=7,D58<=J13),D58,IF(AND(G53=5,G21=8,D58<=J14),D58,IF(AND(G53=5,G21=9,D58<=I15),D58,IF(AND(G53=5,G21=10,D58<=I16),D58,IF(AND(OR(G53=1,G53=2,G53=3,G53=4,G53=5),G21=12,NOT(F58=0)),D58,A76)))))))))))))))))))))))))))))))))))))))))))))))))))","v":"Норма"}]
[{"$f":"IF(AND(G53=1,H21=1,D59<=F7),D59,IF(AND(G53=1,H21=2,D59<=F8),D59,IF(AND(G53=1,H21=3,D59<=F9),D59,IF(AND(G53=1,H21=4,D59<=F10),D59,IF(AND(G53=1,H21=5,D59<=F11),D59,IF(AND(G53=1,H21=6,D59<=F12),D59,IF(AND(G53=1,H21=7,D59<=F13),D59,IF(AND(G53=1,H21=8,D59<=F14),D59,IF(AND(G53=1,H21=9,D59<=F15),D59,IF(AND(G53=1,H21=10,D59<=F16),D59,IF(AND(G53=2,H21=1,D59<=G7),D59,IF(AND(G53=2,H21=2,D59<=G8),D59,IF(AND(G53=2,H21=3,D59<=G9),D59,IF(AND(G53=2,H21=4,D59<=G10),D59,IF(AND(G53=2,H21=5,D59<=G11),D59,IF(AND(G53=2,H21=6,D59<=G12),D59,IF(AND(G53=2,H21=7,D59<=G13),D59,IF(AND(G53=2,H21=8,D59<=G14),D59,IF(AND(G53=2,H21=9,D59<=G15),D59,IF(AND(G53=2,H21=10,D59<=G16),D59,IF(AND(G53=3,H21=1,D59<=H7),D59,IF(AND(G53=3,H21=2,D59<=H8),D59,IF(AND(G53=3,H21=3,D59<=H9),D59,IF(AND(G53=3,H21=4,D59<=H10),D59,IF(AND(G53=3,H21=5,D59<=H11),D59,IF(AND(G53=3,H21=6,D59<=H12),D59,IF(AND(G53=3,H21=7,D59<=H13),D59,IF(AND(G53=3,H21=8,D59<=H14),D59,IF(AND(G53=3,H21=9,D59<=H15),D59,IF(AND(G53=3,H21=10,D59<=H16),D59,IF(AND(G53=4,H21=1,D59<=I7),D59,IF(AND(G53=4,H21=2,D59<=I8),D59,IF(AND(G53=4,H21=3,D59<=I9),D59,IF(AND(G53=4,H21=4,D59<=I10),D59,IF(AND(G53=4,H21=5,D59<=I11),D59,IF(AND(G53=4,H21=6,D59<=I12),D59,IF(AND(G53=4,H21=7,D59<=I13),D59,IF(AND(G53=4,H21=8,D59<=I14),D59,IF(AND(G53=4,H21=9,D59<=I15),D59,IF(AND(G53=4,H21=10,D59<=I16),D59,IF(AND(G53=5,H21=1,D59<=J7),D59,IF(AND(G53=5,H21=2,D59<=J8),D59,IF(AND(G53=5,H21=3,D59<=J9),D59,IF(AND(G53=5,H21=4,D59<=J10),D59,IF(AND(G53=5,H21=5,D59<=J11),D59,IF(AND(G53=5,H21=6,D59<=J12),D59,IF(AND(G53=5,H21=7,D59<=J13),D59,IF(AND(G53=5,H21=8,D59<=J14),D59,IF(AND(G53=5,H21=9,D59<=I15),D59,IF(AND(G53=5,H21=10,D59<=I16),D59,IF(AND(OR(G53=1,G53=2,G53=3,G53=4,G53=5),H21=12,NOT(F59=0)),D59,A76)))))))))))))))))))))))))))))))))))))))))))))))))))","v":"Норма"}]
[{"$f":"IF(AND(G53=1,I21=1,D60<=F7),D60,IF(AND(G53=1,I21=2,D60<=F8),D60,IF(AND(G53=1,I21=3,D60<=F9),D60,IF(AND(G53=1,I21=4,D60<=F10),D60,IF(AND(G53=1,I21=5,D60<=F11),D60,IF(AND(G53=1,I21=6,D60<=F12),D60,IF(AND(G53=1,I21=7,D60<=F13),D60,IF(AND(G53=1,I21=8,D60<=F14),D60,IF(AND(G53=1,I21=9,D60<=F15),D60,IF(AND(G53=1,I21=10,D60<=F16),D60,IF(AND(G53=2,I21=1,D60<=G7),D60,IF(AND(G53=2,I21=2,D60<=G8),D60,IF(AND(G53=2,I21=3,D60<=G9),D60,IF(AND(G53=2,I21=4,D60<=G10),D60,IF(AND(G53=2,I21=5,D60<=G11),D60,IF(AND(G53=2,I21=6,D60<=G12),D60,IF(AND(G53=2,I21=7,D60<=G13),D60,IF(AND(G53=2,I21=8,D60<=G14),D60,IF(AND(G53=2,I21=9,D60<=G15),D60,IF(AND(G53=2,I21=10,D60<=G16),D60,IF(AND(G53=3,I21=1,D60<=H7),D60,IF(AND(G53=3,I21=2,D60<=H8),D60,IF(AND(G53=3,I21=3,D60<=H9),D60,IF(AND(G53=3,I21=4,D60<=H10),D60,IF(AND(G53=3,I21=5,D60<=H11),D60,IF(AND(G53=3,I21=6,D60<=H12),D60,IF(AND(G53=3,I21=7,D60<=H13),D60,IF(AND(G53=3,I21=8,D60<=H14),D60,IF(AND(G53=3,I21=9,D60<=H15),D60,IF(AND(G53=3,I21=10,D60<=H16),D60,IF(AND(G53=4,I21=1,D60<=I7),D60,IF(AND(G53=4,I21=2,D60<=I8),D60,IF(AND(G53=4,I21=3,D60<=I9),D60,IF(AND(G53=4,I21=4,D60<=I10),D60,IF(AND(G53=4,I21=5,D60<=I11),D60,IF(AND(G53=4,I21=6,D60<=I12),D60,IF(AND(G53=4,I21=7,D60<=I13),D60,IF(AND(G53=4,I21=8,D60<=I14),D60,IF(AND(G53=4,I21=9,D60<=I15),D60,IF(AND(G53=4,I21=10,D60<=I16),D60,IF(AND(G53=5,I21=1,D60<=J7),D60,IF(AND(G53=5,I21=2,D60<=J8),D60,IF(AND(G53=5,I21=3,D60<=J9),D60,IF(AND(G53=5,I21=4,D60<=J10),D60,IF(AND(G53=5,I21=5,D60<=J11),D60,IF(AND(G53=5,I21=6,D60<=J12),D60,IF(AND(G53=5,I21=7,D60<=J13),D60,IF(AND(G53=5,I21=8,D60<=J14),D60,IF(AND(G53=5,I21=9,D60<=I15),D60,IF(AND(G53=5,I21=10,D60<=I16),D60,IF(AND(OR(G53=1,G53=2,G53=3,G53=4,G53=5),I21=12,NOT(F60=0)),D60,A76)))))))))))))))))))))))))))))))))))))))))))))))))))","v":"Норма"}]
[{"$f":"IF(AND(G53=1,J21=1,D61<=F7),D61,IF(AND(G53=1,J21=2,D61<=F8),D61,IF(AND(G53=1,J21=3,D61<=F9),D61,IF(AND(G53=1,J21=4,D61<=F10),D61,IF(AND(G53=1,J21=5,D61<=F11),D61,IF(AND(G53=1,J21=6,D61<=F12),D61,IF(AND(G53=1,J21=7,D61<=F13),D61,IF(AND(G53=1,J21=8,D61<=F14),D61,IF(AND(G53=1,J21=9,D61<=F15),D61,IF(AND(G53=1,J21=10,D61<=F16),D61,IF(AND(G53=2,J21=1,D61<=G7),D61,IF(AND(G53=2,J21=2,D61<=G8),D61,IF(AND(G53=2,J21=3,D61<=G9),D61,IF(AND(G53=2,J21=4,D61<=G10),D61,IF(AND(G53=2,J21=5,D61<=G11),D61,IF(AND(G53=2,J21=6,D61<=G12),D61,IF(AND(G53=2,J21=7,D61<=G13),D61,IF(AND(G53=2,J21=8,D61<=G14),D61,IF(AND(G53=2,J21=9,D61<=G15),D61,IF(AND(G53=2,J21=10,D61<=G16),D61,IF(AND(G53=3,J21=1,D61<=H7),D61,IF(AND(G53=3,J21=2,D61<=H8),D61,IF(AND(G53=3,J21=3,D61<=H9),D61,IF(AND(G53=3,J21=4,D61<=H10),D61,IF(AND(G53=3,J21=5,D61<=H11),D61,IF(AND(G53=3,J21=6,D61<=H12),D61,IF(AND(G53=3,J21=7,D61<=H13),D61,IF(AND(G53=3,J21=8,D61<=H14),D61,IF(AND(G53=3,J21=9,D61<=H15),D61,IF(AND(G53=3,J21=10,D61<=H16),D61,IF(AND(G53=4,J21=1,D61<=I7),D61,IF(AND(G53=4,J21=2,D61<=I8),D61,IF(AND(G53=4,J21=3,D61<=I9),D61,IF(AND(G53=4,J21=4,D61<=I10),D61,IF(AND(G53=4,J21=5,D61<=I11),D61,IF(AND(G53=4,J21=6,D61<=I12),D61,IF(AND(G53=4,J21=7,D61<=I13),D61,IF(AND(G53=4,J21=8,D61<=I14),D61,IF(AND(G53=4,J21=9,D61<=I15),D61,IF(AND(G53=4,J21=10,D61<=I16),D61,IF(AND(G53=5,J21=1,D61<=J7),D61,IF(AND(G53=5,J21=2,D61<=J8),D61,IF(AND(G53=5,J21=3,D61<=J9),D61,IF(AND(G53=5,J21=4,D61<=J10),D61,IF(AND(G53=5,J21=5,D61<=J11),D61,IF(AND(G53=5,J21=6,D61<=J12),D61,IF(AND(G53=5,J21=7,D61<=J13),D61,IF(AND(G53=5,J21=8,D61<=J14),D61,IF(AND(G53=5,J21=9,D61<=I15),D61,IF(AND(G53=5,J21=10,D61<=I16),D61,IF(AND(OR(G53=1,G53=2,G53=3,G53=4,G53=5),J21=12,NOT(F61=0)),D61,A76)))))))))))))))))))))))))))))))))))))))))))))))))))","v":"Норма"}]
[{"$f":"IF(AND(G53=1,K21=1,D62<=F7),D62,IF(AND(G53=1,K21=2,D62<=F8),D62,IF(AND(G53=1,K21=3,D62<=F9),D62,IF(AND(G53=1,K21=4,D62<=F10),D62,IF(AND(G53=1,K21=5,D62<=F11),D62,IF(AND(G53=1,K21=6,D62<=F12),D62,IF(AND(G53=1,K21=7,D62<=F13),D62,IF(AND(G53=1,K21=8,D62<=F14),D62,IF(AND(G53=1,K21=9,D62<=F15),D62,IF(AND(G53=1,K21=10,D62<=F16),D62,IF(AND(G53=2,K21=1,D62<=G7),D62,IF(AND(G53=2,K21=2,D62<=G8),D62,IF(AND(G53=2,K21=3,D62<=G9),D62,IF(AND(G53=2,K21=4,D62<=G10),D62,IF(AND(G53=2,K21=5,D62<=G11),D62,IF(AND(G53=2,K21=6,D62<=G12),D62,IF(AND(G53=2,K21=7,D62<=G13),D62,IF(AND(G53=2,K21=8,D62<=G14),D62,IF(AND(G53=2,K21=9,D62<=G15),D62,IF(AND(G53=2,K21=10,D62<=G16),D62,IF(AND(G53=3,K21=1,D62<=H7),D62,IF(AND(G53=3,K21=2,D62<=H8),D62,IF(AND(G53=3,K21=3,D62<=H9),D62,IF(AND(G53=3,K21=4,D62<=H10),D62,IF(AND(G53=3,K21=5,D62<=H11),D62,IF(AND(G53=3,K21=6,D62<=H12),D62,IF(AND(G53=3,K21=7,D62<=H13),D62,IF(AND(G53=3,K21=8,D62<=H14),D62,IF(AND(G53=3,K21=9,D62<=H15),D62,IF(AND(G53=3,K21=10,D62<=H16),D62,IF(AND(G53=4,K21=1,D62<=I7),D62,IF(AND(G53=4,K21=2,D62<=I8),D62,IF(AND(G53=4,K21=3,D62<=I9),D62,IF(AND(G53=4,K21=4,D62<=I10),D62,IF(AND(G53=4,K21=5,D62<=I11),D62,IF(AND(G53=4,K21=6,D62<=I12),D62,IF(AND(G53=4,K21=7,D62<=I13),D62,IF(AND(G53=4,K21=8,D62<=I14),D62,IF(AND(G53=4,K21=9,D62<=I15),D62,IF(AND(G53=4,K21=10,D62<=I16),D62,IF(AND(G53=5,K21=1,D62<=J7),D62,IF(AND(G53=5,K21=2,D62<=J8),D62,IF(AND(G53=5,K21=3,D62<=J9),D62,IF(AND(G53=5,K21=4,D62<=J10),D62,IF(AND(G53=5,K21=5,D62<=J11),D62,IF(AND(G53=5,K21=6,D62<=J12),D62,IF(AND(G53=5,K21=7,D62<=J13),D62,IF(AND(G53=5,K21=8,D62<=J14),D62,IF(AND(G53=5,K21=9,D62<=I15),D62,IF(AND(G53=5,K21=10,D62<=I16),D62,IF(AND(OR(G53=1,G53=2,G53=3,G53=4,G53=5),K21=12,NOT(F62=0)),D62,A76)))))))))))))))))))))))))))))))))))))))))))))))))))","v":"Норма"}]
["Вывод исполнения",null,null,null,null,null,null,null,null,{"$f":"IF(AND(NOT(A53=\"-\"),NOT(A54=\"-\"),NOT(A55=\"-\"),NOT(A56=\"-\"),NOT(A57=\"-\"),NOT(A58=\"-\"),NOT(A59=\"-\"),NOT(A60=\"-\"),NOT(A61=\"-\"),NOT(A62=\"-\")),\"(\",\"\")","v":""}]
[{"$f":"CONCATENATE(J49,IF(NOT(A53=\"-\"),CONCATENATE(A53,A36),\"\"),IF(NOT(A54=\"-\"),CONCATENATE(\" - \",A54,A37),\"\"),IF(NOT(A55=\"-\"),CONCATENATE(\" - \",A55,A38),\"\"),IF(NOT(A56=\"-\"),CONCATENATE(\" - \",A56,A39),\"\"),IF(NOT(A57=\"-\"),CONCATENATE(\" - \",A57,A40),\"\"),IF(NOT(A58=\"-\"),CONCATENATE(\" - \",A58,A41),\"\"),IF(NOT(A59=\"-\"),CONCATENATE(\" - \",A59,A42),\"\"),IF(NOT(A60=\"-\"),CONCATENATE(\" - \",A60,A43),\"\"),IF(NOT(A61=\"-\"),CONCATENATE(\" - \",A61,A44),\"\"),IF(NOT(A62=\"-\"),CONCATENATE(\" - \",A62,A45),\"\"),K49)","v":""}]
["Результат для вкладки \"Опросный лист\"",null,null,null,null,null,null,null,null,null,null,"Двухрядное расположение клемм доступно только для ККВ-4 и ККВ-5"]
[{"$f":"IF(AND(A66=\"Норма\",A68=1),A47,IF(AND(A66=\"Норма\",A68=2),CONCATENATE(A47,\" / \",\"(\",\"Двухрядное расположение\",\")\"),A68))","v":""},null,null,null,null,null,null,null,null,{"$f":"IF(AND(A53=\"-\",A54=\"-\",A55=\"-\",A56=\"-\",A57=\"-\",A58=\"-\",A59=\"-\",A60=\"-\",A61=\"-\",A62=\"-\"),\"\",\" - (\")","v":""},{"$f":"IF(AND(A53=\"-\",A54=\"-\",A55=\"-\",A56=\"-\",A57=\"-\",A58=\"-\",A59=\"-\",A60=\"-\",A61=\"-\",A62=\"-\"),\"\",\")\")","v":""},{"$f":"IF(A49=L48,\"Х\",\"НОРМА\")","v":"НОРМА"}]
[]
["Код исполнения клемм",null,null,"Количетсво клемм ",null,null,"ТИП КОРОБКИ","Расположение клемм"]
[]
[{"$f":"IF(Клеммы!B21=1,1,IF(Клеммы!B21=2,2,IF(Клеммы!B21=3,3,IF(Клеммы!B21=4,4,IF(Клеммы!B21=5,5,IF(Клеммы!B21=6,6,IF(Клеммы!B21=7,7,IF(Клеммы!B21=8,8,IF(Клеммы!B21=9,9,IF(Клеммы!B21=11,\"-\",IF(Клеммы!B21=10,\"А\",IF(Клеммы!B21=12,\"Д\"))))))))))))","v":"-"},null,null,{"$f":"IF('Опросный лист'!H19=0,\"-\",'Опросный лист'!H19)","v":"-"},null,{"$f":"IF(D53=\"-\",0,D53)","v":0},{"$f":"Габариты!I13","v":1},1,null,{"$f":"IF(B21=1,L7,IF(B21=2,L8,IF(B21=3,L9,IF(B21=4,L10,IF(B21=5,L11,IF(B21=6,L12,IF(B21=7,L13,IF(B21=8,L14,IF(B21=9,L15,IF(B21=10,L16,IF(B21=12,L17,IF(B21=11,\"-\"))))))))))))","v":"-"},{"$f":"IF(B21=1,C7,IF(B21=2,C8,IF(B21=3,C9,IF(B21=4,C10,IF(B21=5,C11,IF(B21=6,C12,IF(B21=7,C13,IF(B21=8,C14,IF(B21=9,C15,IF(B21=10,C16,IF(B21=11,\"-\",IF(B21=12,\"-\"))))))))))))","v":"-"},{"$f":"IF(B21=1,D7,IF(B21=2,D8,IF(B21=3,D9,IF(B21=4,D10,IF(B21=5,D11,IF(B21=6,D12,IF(B21=7,D13,IF(B21=8,D14,IF(B21=9,D15,IF(B21=10,D16,IF(B21=11,\"-\",IF(B21=12,\"-\"))))))))))))","v":"-"},{"$f":"IF(B21=1,E7,IF(B21=2,E8,IF(B21=3,E9,IF(B21=4,E10,IF(B21=5,E11,IF(B21=6,E12,IF(B21=7,E13,IF(B21=8,E14,IF(B21=9,E15,IF(B21=10,E16,IF(B21=11,\"-\",IF(B21=12,\"-\"))))))))))))","v":"-"}]
[{"$f":"IF(Клеммы!C21=1,1,IF(Клеммы!C21=2,2,IF(Клеммы!C21=3,3,IF(Клеммы!C21=4,4,IF(Клеммы!C21=5,5,IF(Клеммы!C21=6,6,IF(Клеммы!C21=7,7,IF(Клеммы!C21=8,8,IF(Клеммы!C21=9,9,IF(Клеммы!C21=11,\"-\",IF(Клеммы!C21=10,\"А\",IF(Клеммы!C21=12,\"Д\"))))))))))))","v":"-"},null,null,{"$f":"IF('Опросный лист'!H20=0,\"-\",'Опросный лист'!H20)","v":"-"},null,{"$f":"IF(D54=\"-\",0,D54)","v":0},null,null,null,{"$f":"IF(C21=1,L7,IF(C21=2,L8,IF(C21=3,L9,IF(C21=4,L10,IF(C21=5,L11,IF(C21=6,L12,IF(C21=7,L13,IF(C21=8,L14,IF(C21=9,L15,IF(C21=10,L16,IF(C21=11,L17,IF(C21=12,\"-\"))))))))))))","v":"-"},{"$f":"IF(C21=1,C7,IF(C21=2,C8,IF(C21=3,C9,IF(C21=4,C10,IF(C21=5,C11,IF(C21=6,C12,IF(C21=7,C13,IF(C21=8,C14,IF(C21=9,C15,IF(C21=10,C16,IF(C21=11,\"-\",IF(C21=12,\"-\"))))))))))))","v":"-"},{"$f":"IF(C21=1,D7,IF(C21=2,D8,IF(C21=3,D9,IF(C21=4,D10,IF(C21=5,D11,IF(C21=6,D12,IF(C21=7,D13,IF(C21=8,D14,IF(C21=9,D15,IF(C21=10,D16,IF(C21=11,\"-\",IF(C21=12,\"-\"))))))))))))","v":"-"},{"$f":"IF(C21=1,E7,IF(C21=2,E8,IF(C21=3,E9,IF(C21=4,E10,IF(C21=5,E11,IF(C21=6,E12,IF(C21=7,E13,IF(C21=8,E14,IF(C21=9,E15,IF(C21=10,E16,IF(C21=11,\"-\",IF(C21=12,\"-\"))))))))))))","v":"-"}]
[{"$f":"IF(Клеммы!D21=1,1,IF(Клеммы!D21=2,2,IF(Клеммы!D21=3,3,IF(Клеммы!D21=4,4,IF(Клеммы!D21=5,5,IF(Клеммы!D21=6,6,IF(Клеммы!D21=7,7,IF(Клеммы!D21=8,8,IF(Клеммы!D21=9,9,IF(Клеммы!D21=11,\"-\",IF(Клеммы!D21=10,\"А\",IF(Клеммы!D21=12,\"Д\"))))))))))))","v":"-"},null,null,{"$f":"IF('Опросный лист'!H21=0,\"-\",'Опросный лист'!H21)","v":"-"},null,{"$f":"IF(D55=\"-\",0,D55)","v":0},null,null,null,{"$f":"IF(D21=1,L7,IF(D21=2,L8,IF(D21=3,L9,IF(D21=4,L10,IF(D21=5,L11,IF(D21=6,L12,IF(D21=7,L13,IF(D21=8,L14,IF(D21=9,L15,IF(D21=10,L16,IF(D21=11,L17,IF(D21=12,\"-\"))))))))))))","v":"-"},{"$f":"IF(D21=1,C7,IF(D21=2,C8,IF(D21=3,C9,IF(D21=4,C10,IF(D21=5,C11,IF(D21=6,C12,IF(D21=7,C13,IF(D21=8,C14,IF(D21=9,C15,IF(D21=10,C16,IF(D21=11,\"-\",IF(D21=12,\"-\"))))))))))))","v":"-"},{"$f":"IF(D21=1,D7,IF(D21=2,D8,IF(D21=3,D9,IF(D21=4,D10,IF(D21=5,D11,IF(D21=6,D12,IF(D21=7,D13,IF(D21=8,D14,IF(D21=9,D15,IF(D21=10,D16,IF(D21=11,\"-\",IF(D21=12,\"-\"))))))))))))","v":"-"},{"$f":"IF(D21=1,E7,IF(D21=2,E8,IF(D21=3,E9,IF(D21=4,E10,IF(D21=5,E11,IF(D21=6,E12,IF(D21=7,E13,IF(D21=8,E14,IF(D21=9,E15,IF(D21=10,E16,IF(D21=11,\"-\",IF(D21=12,\"-\"))))))))))))","v":"-"}]
[{"$f":"IF(Клеммы!E21=1,1,IF(Клеммы!E21=2,2,IF(Клеммы!E21=3,3,IF(Клеммы!E21=4,4,IF(Клеммы!E21=5,5,IF(Клеммы!E21=6,6,IF(Клеммы!E21=7,7,IF(Клеммы!E21=8,8,IF(Клеммы!E21=9,9,IF(Клеммы!E21=11,\"-\",IF(Клеммы!E21=10,\"А\",IF(Клеммы!E21=12,'Опросный лист'!B37))))))))))))","v":"-"},null,null,{"$f":"IF('Опросный лист'!H22=0,\"-\",'Опросный лист'!H22)","v":"-"},null,0,null,null,null,{"$f":"IF(E21=1,L7,IF(E21=2,L8,IF(E21=3,L9,IF(E21=4,L10,IF(E21=5,L11,IF(E21=6,L12,IF(E21=7,L13,IF(E21=8,L14,IF(E21=9,L15,IF(E21=10,L16,IF(E21=11,L17,IF(E21=12,\"-\"))))))))))))","v":"-"},{"$f":"IF(E21=1,C7,IF(E21=2,C8,IF(E21=3,C9,IF(E21=4,C10,IF(E21=5,C11,IF(E21=6,C12,IF(E21=7,C13,IF(E21=8,C14,IF(E21=9,C15,IF(E21=10,C16,IF(E21=11,\"-\",IF(E21=12,\"-\"))))))))))))","v":"-"},{"$f":"IF(E21=1,D7,IF(E21=2,D8,IF(E21=3,D9,IF(E21=4,D10,IF(E21=5,D11,IF(E21=6,D12,IF(E21=7,D13,IF(E21=8,D14,IF(E21=9,D15,IF(E21=10,D16,IF(E21=11,\"-\",IF(E21=12,\"-\"))))))))))))","v":"-"},{"$f":"IF(E21=1,E7,IF(E21=2,E8,IF(E21=3,E9,IF(E21=4,E10,IF(E21=5,E11,IF(E21=6,E12,IF(E21=7,E13,IF(E21=8,E14,IF(E21=9,E15,IF(E21=10,E16,IF(E21=11,\"-\",IF(E21=12,\"-\"))))))))))))","v":"-"}]
[{"$f":"IF(Клеммы!F21=1,1,IF(Клеммы!F21=2,2,IF(Клеммы!F21=3,3,IF(Клеммы!F21=4,4,IF(Клеммы!F21=5,5,IF(Клеммы!F21=6,6,IF(Клеммы!F21=7,7,IF(Клеммы!F21=8,8,IF(Клеммы!F21=9,9,IF(Клеммы!F21=11,\"-\",IF(Клеммы!F21=10,\"А\",IF(Клеммы!F21=12,\"Д\"))))))))))))","v":"-"},null,null,{"$f":"IF('Опросный лист'!H23=0,\"-\",'Опросный лист'!H23)","v":"-"},null,0,null,null,null,{"$f":"IF(F21=1,L7,IF(F21=2,L8,IF(F21=3,L9,IF(F21=4,L10,IF(F21=5,L11,IF(F21=6,L12,IF(F21=7,L13,IF(F21=8,L14,IF(F21=9,L15,IF(F21=10,L16,IF(F21=11,L17,IF(F21=12,\"-\"))))))))))))","v":"-"},{"$f":"IF(F21=1,C7,IF(F21=2,C8,IF(F21=3,C9,IF(F21=4,C10,IF(F21=5,C11,IF(F21=6,C12,IF(F21=7,C13,IF(F21=8,C14,IF(F21=9,C15,IF(F21=10,C16,IF(F21=11,\"-\",IF(F21=12,\"-\"))))))))))))","v":"-"},{"$f":"IF(F21=1,D7,IF(F21=2,D8,IF(F21=3,D9,IF(F21=4,D10,IF(F21=5,D11,IF(F21=6,D12,IF(F21=7,D13,IF(F21=8,D14,IF(F21=9,D15,IF(F21=10,D16,IF(F21=11,\"-\",IF(F21=12,\"-\"))))))))))))","v":"-"},{"$f":"IF(F21=1,E7,IF(F21=2,E8,IF(F21=3,E9,IF(F21=4,E10,IF(F21=5,E11,IF(F21=6,E12,IF(F21=7,E13,IF(F21=8,E14,IF(F21=9,E15,IF(F21=10,E16,IF(F21=11,\"-\",IF(F21=12,\"-\"))))))))))))","v":"-"}]
[{"$f":"IF(Клеммы!G21=1,1,IF(Клеммы!G21=2,2,IF(Клеммы!G21=3,3,IF(Клеммы!G21=4,4,IF(Клеммы!G21=5,5,IF(Клеммы!G21=6,6,IF(Клеммы!G21=7,7,IF(Клеммы!G21=8,8,IF(Клеммы!G21=9,9,IF(Клеммы!G21=11,\"-\",IF(Клеммы!G21=10,\"А\",IF(Клеммы!G21=12,\"Д\"))))))))))))","v":"-"},null,null,{"$f":"IF('Опросный лист'!H24=0,\"-\",'Опросный лист'!H24)","v":"-"},null,0,null,null,null,{"$f":"IF(G21=1,L7,IF(G21=2,L8,IF(G21=3,L9,IF(G21=4,L10,IF(G21=5,L11,IF(G21=6,L12,IF(G21=7,L13,IF(G21=8,L14,IF(G21=9,L15,IF(G21=10,L16,IF(G21=11,L17,IF(G21=12,\"-\"))))))))))))","v":"-"},{"$f":"IF(G21=1,C7,IF(G21=2,C8,IF(G21=3,C9,IF(G21=4,C10,IF(G21=5,C11,IF(G21=6,C12,IF(G21=7,C13,IF(G21=8,C14,IF(G21=9,C15,IF(G21=10,C16,IF(G21=11,\"-\",IF(G21=12,\"-\"))))))))))))","v":"-"},{"$f":"IF(G21=1,D7,IF(G21=2,D8,IF(G21=3,D9,IF(G21=4,D10,IF(G21=5,D11,IF(G21=6,D12,IF(G21=7,D13,IF(G21=8,D14,IF(G21=9,D15,IF(G21=10,D16,IF(G21=11,\"-\",IF(G21=12,\"-\"))))))))))))","v":"-"},{"$f":"IF(G21=1,E7,IF(G21=2,E8,IF(G21=3,E9,IF(G21=4,E10,IF(G21=5,E11,IF(G21=6,E12,IF(G21=7,E13,IF(G21=8,E14,IF(G21=9,E15,IF(G21=10,E16,IF(G21=11,\"-\",IF(G21=12,\"-\"))))))))))))","v":"-"}]
[{"$f":"IF(Клеммы!H21=1,1,IF(Клеммы!H21=2,2,IF(Клеммы!H21=3,3,IF(Клеммы!H21=4,4,IF(Клеммы!H21=5,5,IF(Клеммы!H21=6,6,IF(Клеммы!H21=7,7,IF(Клеммы!H21=8,8,IF(Клеммы!H21=9,9,IF(Клеммы!H21=11,\"-\",IF(Клеммы!H21=10,\"А\",IF(Клеммы!H21=12,\"Д\"))))))))))))","v":"-"},null,null,{"$f":"IF('Опросный лист'!H25=0,\"-\",'Опросный лист'!H25)","v":"-"},null,0,null,null,null,{"$f":"IF(H21=1,L7,IF(H21=2,L8,IF(H21=3,L9,IF(H21=4,L10,IF(H21=5,L11,IF(H21=6,L12,IF(H21=7,L13,IF(H21=8,L14,IF(H21=9,L15,IF(H21=10,L16,IF(H21=11,L17,IF(H21=12,\"-\"))))))))))))","v":"-"},{"$f":"IF(H21=1,C7,IF(H21=2,C8,IF(H21=3,C9,IF(H21=4,C10,IF(H21=5,C11,IF(H21=6,C12,IF(H21=7,C13,IF(H21=8,C14,IF(H21=9,C15,IF(H21=10,C16,IF(H21=11,\"-\",IF(H21=12,\"-\"))))))))))))","v":"-"},{"$f":"IF(H21=1,D7,IF(H21=2,D8,IF(H21=3,D9,IF(H21=4,D10,IF(H21=5,D11,IF(H21=6,D12,IF(H21=7,D13,IF(H21=8,D14,IF(H21=9,D15,IF(H21=10,D16,IF(H21=11,\"-\",IF(H21=12,\"-\"))))))))))))","v":"-"},{"$f":"IF(H21=1,E7,IF(H21=2,E8,IF(H21=3,E9,IF(H21=4,E10,IF(H21=5,E11,IF(H21=6,E12,IF(H21=7,E13,IF(H21=8,E14,IF(H21=9,E15,IF(H21=10,E16,IF(H21=11,\"-\",IF(H21=12,\"-\"))))))))))))","v":"-"}]
[{"$f":"IF(Клеммы!I21=1,1,IF(Клеммы!I21=2,2,IF(Клеммы!I21=3,3,IF(Клеммы!I21=4,4,IF(Клеммы!I21=5,5,IF(Клеммы!I21=6,6,IF(Клеммы!I21=7,7,IF(Клеммы!I21=8,8,IF(Клеммы!I21=9,9,IF(Клеммы!I21=11,\"-\",IF(Клеммы!I21=10,\"А\",IF(Клеммы!I21=12,\"Д\"))))))))))))","v":"-"},null,null,{"$f":"IF('Опросный лист'!H26=0,\"-\",'Опросный лист'!H26)","v":"-"},null,0,null,null,null,{"$f":"IF(I21=1,L7,IF(I21=2,L8,IF(I21=3,L9,IF(I21=4,L10,IF(I21=5,L11,IF(I21=6,L12,IF(I21=7,L13,IF(I21=8,L14,IF(I21=9,L15,IF(I21=10,L16,IF(I21=11,L17,IF(I21=12,\"-\"))))))))))))","v":"-"},{"$f":"IF(I21=1,C7,IF(I21=2,C8,IF(I21=3,C9,IF(I21=4,C10,IF(I21=5,C11,IF(I21=6,C12,IF(I21=7,C13,IF(I21=8,C14,IF(I21=9,C15,IF(I21=10,C16,IF(I21=11,\"-\",IF(I21=12,\"-\"))))))))))))","v":"-"},{"$f":"IF(I21=1,D7,IF(I21=2,D8,IF(I21=3,D9,IF(I21=4,D10,IF(I21=5,D11,IF(I21=6,D12,IF(I21=7,D13,IF(I21=8,D14,IF(I21=9,D15,IF(I21=10,D16,IF(I21=11,\"-\",IF(I21=12,\"-\"))))))))))))","v":"-"},{"$f":"IF(I21=1,E7,IF(I21=2,E8,IF(I21=3,E9,IF(I21=4,E10,IF(I21=5,E11,IF(I21=6,E12,IF(I21=7,E13,IF(I21=8,E14,IF(I21=9,E15,IF(I21=10,E16,IF(I21=11,\"-\",IF(I21=12,\"-\"))))))))))))","v":"-"}]
[{"$f":"IF(Клеммы!J21=1,1,IF(Клеммы!J21=2,2,IF(Клеммы!J21=3,3,IF(Клеммы!J21=4,4,IF(Клеммы!J21=5,5,IF(Клеммы!J21=6,6,IF(Клеммы!J21=7,7,IF(Клеммы!J21=8,8,IF(Клеммы!J21=9,9,IF(Клеммы!J21=11,\"-\",IF(Клеммы!J21=10,\"А\",IF(Клеммы!J21=12,\"Д\"))))))))))))","v":"-"},null,null,{"$f":"IF('Опросный лист'!H27=0,\"-\",'Опросный лист'!H27)","v":"-"},null,0,null,null,null,{"$f":"IF(J21=1,L7,IF(J21=2,L8,IF(J21=3,L9,IF(J21=4,L10,IF(J21=5,L11,IF(J21=6,L12,IF(J21=7,L13,IF(J21=8,L14,IF(J21=9,L15,IF(J21=10,L16,IF(J21=11,L17,IF(J21=12,\"-\"))))))))))))","v":"-"},{"$f":"IF(J21=1,C7,IF(J21=2,C8,IF(J21=3,C9,IF(J21=4,C10,IF(J21=5,C11,IF(J21=6,C12,IF(J21=7,C13,IF(J21=8,C14,IF(J21=9,C15,IF(J21=10,C16,IF(J21=11,\"-\",IF(J21=12,\"-\"))))))))))))","v":"-"},{"$f":"IF(J21=1,D7,IF(J21=2,D8,IF(J21=3,D9,IF(J21=4,D10,IF(J21=5,D11,IF(J21=6,D12,IF(J21=7,D13,IF(J21=8,D14,IF(J21=9,D15,IF(J21=10,D16,IF(J21=11,\"-\",IF(J21=12,\"-\"))))))))))))","v":"-"},{"$f":"IF(J21=1,E7,IF(J21=2,E8,IF(J21=3,E9,IF(J21=4,E10,IF(J21=5,E11,IF(J21=6,E12,IF(J21=7,E13,IF(J21=8,E14,IF(J21=9,E15,IF(J21=10,E16,IF(J21=11,\"-\",IF(J21=12,\"-\"))))))))))))","v":"-"}]
[{"$f":"IF(Клеммы!K21=1,1,IF(Клеммы!K21=2,2,IF(Клеммы!K21=3,3,IF(Клеммы!K21=4,4,IF(Клеммы!K21=5,5,IF(Клеммы!K21=6,6,IF(Клеммы!K21=7,7,IF(Клеммы!K21=8,8,IF(Клеммы!K21=9,9,IF(Клеммы!K21=11,\"-\",IF(Клеммы!K21=10,\"А\",IF(Клеммы!K21=12,\"Д\"))))))))))))","v":"-"},null,null,{"$f":"IF('Опросный лист'!H28=0,\"-\",'Опросный лист'!H28)","v":"-"},null,0,null,null,null,{"$f":"IF(K21=1,L7,IF(K21=2,L8,IF(K21=3,L9,IF(K21=4,L10,IF(K21=5,L11,IF(K21=6,L12,IF(K21=7,L13,IF(K21=8,L14,IF(K21=9,L15,IF(K21=10,L16,IF(K21=11,L17,IF(K21=12,\"-\"))))))))))))","v":"-"},{"$f":"IF(K21=1,C7,IF(K21=2,C8,IF(K21=3,C9,IF(K21=4,C10,IF(K21=5,C11,IF(K21=6,C12,IF(K21=7,C13,IF(K21=8,C14,IF(K21=9,C15,IF(K21=10,C16,IF(K21=11,\"-\",IF(K21=12,\"-\"))))))))))))","v":"-"},{"$f":"IF(K21=1,D7,IF(K21=2,D8,IF(K21=3,D9,IF(K21=4,D10,IF(K21=5,D11,IF(K21=6,D12,IF(K21=7,D13,IF(K21=8,D14,IF(K21=9,D15,IF(K21=10,D16,IF(K21=11,\"-\",IF(K21=12,\"-\"))))))))))))","v":"-"},{"$f":"IF(K21=1,E7,IF(K21=2,E8,IF(K21=3,E9,IF(K21=4,E10,IF(K21=5,E11,IF(K21=6,E12,IF(K21=7,E13,IF(K21=8,E14,IF(K21=9,E15,IF(K21=10,E16,IF(K21=11,\"-\",IF(K21=12,\"-\"))))))))))))","v":"-"}]
[]
[]
["Логическая ячейка одно/двухрядного расположения клемм",null,null,null,"Сообщение 1",null,null,"Сообщение 2",null,null,"Сообщение 3"]
[{"$f":"IF(AND(G53<4,H53=2),\"Двухрядное расположение клемм доступно только для ККВ-4 и ККВ-5\",\"Норма\")","v":"Норма"},null,null,null," (Превышено максимально допустимое число клемм)",null,null,"(Укажите требуемое число клемм для выбранных исполнений)",null,null,"(Укажите в таблице характеристики типа клемм \"Другие\")"]
["Логическая ячейка учета расположения клемм и типа коробки"]
[{"$f":"IF(AND(H53=1,A66=\"Норма\"),1,IF(AND(H53=2,A66=\"Норма\"),2,A66))","v":1}]
["Логическая ячейка проверки правильности ввода данных"]
[{"$f":"IF(AND(NOT(A53=\"-\"),D53=\"-\"),H66,IF(AND(NOT(A54=\"-\"),D54=\"-\"),H66,IF(AND(NOT(A55=\"-\"),D55=\"-\"),H66,IF(AND(NOT(A56=\"-\"),D56=\"-\"),H66,IF(AND(NOT(A57=\"-\"),D57=\"-\"),H66,IF(AND(NOT(A58=\"-\"),D58=\"-\"),H66,IF(AND(NOT(A59=\"-\"),D59=\"-\"),H66,IF(AND(NOT(A60=\"-\"),D60=\"-\"),H66,IF(AND(NOT(A61=\"-\"),D61=\"-\"),H66,IF(AND(NOT(A62=\"-\"),D62=\"-\"),H66,\"Норма\"))))))))))","v":"Норма"}]
["Расчет посадочного места для заданного числа клемм"]
[{"$f":"ROUND(SUM(F53*O7,F54*O8,F55*O9,F56*O10,F57*O11,F58*O12,F59*O13,F60*O14,F61*O15,F62*O16),0)","v":0}]
["Проверка возможности установки заданного числа клемм"]
[{"$f":"IF(AND(G53=1,A72>N26*A68),E66,IF(AND(G53=2,A72>N27*A68),E66,IF(AND(G53=3,A72>N28*A68),E66,IF(AND(G53=4,A72>N29*A68),E66,IF(AND(G53=5,A72>N30*A68),E66,\"Норма\")))))","v":"Норма"}]
["Вывод итогового сообщения"]
[{"$f":"IF(AND(NOT(A53=\"-\"),F53=0),H66,IF(AND(NOT(A54=\"-\"),F54=0),H66,IF(AND(NOT(A55=\"-\"),F55=0),H66,IF(AND(NOT(A56=\"-\"),F56=0),H66,IF(AND(NOT(A57=\"-\"),F57=0),H66,IF(AND(NOT(A58=\"-\"),F58=0),H66,IF(AND(NOT(A59=\"-\"),F59=0),H66,IF(AND(NOT(A60=\"-\"),F60=0),H66,IF(AND(NOT(A61=\"-\"),F61=0),H66,IF(AND(NOT(A62=\"-\"),F62=0),H66,IF(AND(G53=1,A72>N26),E66,IF(AND(G53=2,A72>N27),E66,IF(AND(G53=3,A72>N28),E66,IF(AND(G53=4,A72>N29),E66,IF(AND(G53=5,A72>N30),E66,\"Норма\")))))))))))))))","v":"Норма"},null,null,null,null,{"$f":"IF(A76=H66,\"???\",\"НОРМА\")","v":"НОРМА"}]
[null,null,null,null,null,{"$f":"IF(A76=E66,\"Х\",\"НОРМА\")","v":"НОРМА"}]
[null,null,null,null,null,{"$f":"IF(OR(AND(B21=12,A85=0),AND(C21=12,A86=0),AND(D21=12,A87=0),AND(E21=12,A88=0),AND(F21=12,A89=0),AND(G21=12,A90=0),AND(H21=12,A91=0),AND(I21=12,A92=0),AND(J21=12,A93=0),AND(K21=12,A94=0)),\"???\",\"НОРМА\")","v":"НОРМА"}]
[]
[]
[]
[null,null,null,null,"Дополнение к заказу"]
[]
[]
[{"$f":"'Опросный лист'!B34","v":0},null,{"$f":"IF(NOT(A85=0),A85,\"\")","v":""},null,false,{"$f":"IF(E85=TRUE,H85,\"\")","v":""},null," концевые панели для организации нескольких групп клемм; ",null,null,null,null,null,null,{"$f":"IF(E85=TRUE,1,0)","v":0}]
[{"$f":"'Опросный лист'!B35","v":0},null,{"$f":"IF(NOT(A86=0),A86,\"\")","v":""},null,false,{"$f":"IF(E86=TRUE,H86,\"\")","v":""},null,"изолирующая панель для выполнения повышенной электроизоляции между соседними клеммами в составе одной группы (для клемм UK); ",null,null,null,null,null,null,{"$f":"IF(E86=TRUE,1,0)","v":0}]
[{"$f":"'Опросный лист'!B36","v":0},null,"",null,false,{"$f":"IF(E87=TRUE,H87,\"\")","v":""},null,"замыкающие контакты на 2, 3 и 10 позиций; ",null,null,null,null,null,null,{"$f":"IF(E87=TRUE,1,0)","v":0}]
[{"$f":"'Опросный лист'!B37","v":0},null,"",null,false,{"$f":"IF(E88=TRUE,H88,\"\")","v":""},null,"замыкающие контакты для организации электрической связи между разнесенными клеммами",null,null,null,null,null,null,{"$f":"IF(E88=TRUE,1,0)","v":0}]
[{"$f":"'Опросный лист'!B38","v":0},null,"",null,{"$f":"IF(AND(E85=FALSE,E86=FALSE,E87=FALSE,E88=FALSE),\"\",\"[ Дополнительные монтажные элементы - \")","v":""},null,{"$f":"IF(NOT(F85=0),F85,\"\")","v":""}]
[{"$f":"'Опросный лист'!B39","v":0},null,"",null,{"$f":"IF(AND(E85=FALSE,E86=FALSE,E87=FALSE,E88=FALSE),\"\",\" ]\")","v":""},null,{"$f":"IF(NOT(F86=0),F86,\"\")","v":""}]
[{"$f":"'Опросный лист'!B40","v":0},null,"",null,null,null,{"$f":"IF(NOT(F87=0),F87,\"\")","v":""}]
[{"$f":"'Опросный лист'!B41","v":0},null,"",null,null,null,{"$f":"IF(NOT(F88=0),F88,\"\")","v":""}]
[{"$f":"'Опросный лист'!B42","v":0},null,""]
[{"$f":"'Опросный лист'!B43","v":0},null,"",null,{"$f":"CONCATENATE(E89,G89,G90,G91,G92,E90)","v":""}]
[]
[null,null,{"$f":"CONCATENATE(IF(AND(A85=0,A86=0,A87=0,A88=0,A89=0,A90=0,A91=0,A92=0,A93=0,A94=0),\"\",\"[\"),IF(AND(A85=0,A86=0,A87=0,A88=0,A89=0,A90=0,A91=0,A92=0,A93=0,A94=0),\"\",\"Особенности клемм - \"),IF(NOT(A85=0),CONCATENATE(\" \",A85,\" \"),\"\"),IF(NOT(A86=0),CONCATENATE(\" \",A86,\" \"),\"\"),IF(NOT(A87=0),CONCATENATE(\" \",A87,\" \"),\"\"),IF(NOT(A88=0),CONCATENATE(\" \",A88,\" \"),\"\"),IF(NOT(A89=0),CONCATENATE(\" \",A89,\" \"),\"\"),IF(NOT(A90=0),CONCATENATE(\" \",A90,\" \"),\"\"),IF(NOT(A91=0),CONCATENATE(\" \",A91,\" \"),\"\"),IF(NOT(A92=0),CONCATENATE(\" \",A92,\" \"),\"\"),IF(NOT(A93=0),CONCATENATE(\" \",A93,\" \"),\"\"),IF(NOT(A94=0),CONCATENATE(\" \",A94,\" \"),\"\"),IF(AND(A85=0,A86=0,A87=0,A88=0,A89=0,A90=0,A91=0,A92=0,A93=0,A94=0),\"\",\"]\"))","v":""}]
[null,null,{"$f":"IF(AND(NOT(B21=12),NOT(C21=12),NOT(D21=12),NOT(E21=12),NOT(F21=12),NOT(G21=12),NOT(H21=12),NOT(I21=12),NOT(J21=12),NOT(K21=12)),\"\",C96)","v":""}]

{"sheet":"Кабельные вводы","index":3,"n_rows":98,"n_cols":24,"rows_kept":98,"cut":false,"hidden":true,"merged":[[97,0,99,17],[78,18,78,22],[79,18,79,22],[80,18,80,22],[81,18,81,22],[82,18,82,22],[83,18,83,22],[84,18,84,22],[85,18,85,22],[93,0,96,17],[82,12,82,17],[83,12,83,17],[84,12,84,17],[85,12,85,17],[88,0,88,5],[89,0,89,5],[90,0,90,5],[91,0,91,5],[78,6,78,11],[79,6,79,11],[80,6,80,11],[81,6,81,11],[82,6,82,11],[83,6,83,11],[84,6,84,11],[85,6,85,11],[78,12,78,17],[79,12,79,17],[80,12,80,17],[81,12,81,17],[76,0,77,5],[78,0,78,5],[79,0,79,5],[80,0,80,5],[81,0,81,5],[82,0,82,5],[83,0,83,5],[84,0,84,5],[85,0,85,5],[8,0,8,13],[23,4,26,5],[23,0,26,3],[27,4,31,5],[16,7,16,9],[17,7,17,9],[18,3,18,4],[19,3,19,4],[7,3,7,6],[7,7,7,9],[7,10,7,13],[16,10,16,11],[17,10,17,11],[18,10,18,11],[19,10,19,11],[20,10,20,11],[20,7,20,9],[12,10,12,11],[18,7,18,9],[19,7,19,9],[9,10,11,11],[9,12,11,12],[9,13,11,13],[13,10,13,11],[14,10,14,11],[15,10,15,11],[12,7,12,9],[13,7,13,9],[14,7,14,9],[15,7,15,9],[20,3,20,4],[20,5,20,6],[18,0,18,2],[12,5,12,6],[13,5,13,6],[14,5,14,6],[15,5,15,6],[16,5,16,6],[17,5,17,6],[18,5,18,6],[19,5,19,6],[19,0,19,2],[12,0,12,2],[0,10,0,13],[9,0,11,2],[9,7,11,9],[1,10,1,13],[2,10,2,13],[3,10,3,13],[4,10,4,13],[5,3,5,6],[6,3,6,6],[0,7,0,9],[1,7,1,9],[2,7,2,9],[3,7,3,9],[4,7,4,9],[5,7,5,9],[6,7,6,9],[0,3,0,6],[1,3,1,6],[2,3,2,6],[3,3,3,6],[4,3,4,6],[0,0,0,2],[9,3,11,6],[7,0,7,2],[1,0,1,2],[2,0,2,2],[3,0,3,2],[4,0,4,2],[5,0,5,2],[6,0,6,2],[23,6,26,8],[23,9,26,11],[27,6,31,8],[27,9,31,11],[5,10,5,13],[6,10,6,13],[20,0,20,2],[12,3,12,4],[13,3,13,4],[14,3,14,4],[15,3,15,4],[16,3,16,4],[17,3,17,4],[13,0,13,2],[14,0,14,2],[15,0,15,2],[16,0,16,2],[17,0,17,2],[33,0,33,10],[34,0,34,1],[34,2,34,4],[34,5,34,7],[34,8,34,10],[35,0,35,1],[35,2,35,4],[35,5,35,7],[35,8,35,10],[36,0,36,1],[36,2,36,4],[36,5,36,7],[36,8,36,10],[37,0,37,1],[37,2,37,4],[37,5,37,7],[37,8,37,10],[38,0,38,1],[38,2,38,4],[38,5,38,7],[38,8,38,10],[55,9,55,11],[51,0,51,2],[52,0,52,2],[53,0,53,2],[54,0,54,2],[55,0,55,2],[56,0,56,2],[57,0,57,2],[39,0,39,1],[39,2,39,4],[39,5,39,7],[39,8,39,10],[40,0,40,1],[40,2,40,4],[40,5,40,7],[40,8,40,10],[41,0,41,1],[41,2,41,4],[41,5,41,7],[41,8,41,10],[42,5,42,7],[42,8,42,10],[49,0,49,2],[48,0,48,2],[42,2,42,4],[48,3,48,5],[48,6,48,8],[48,9,48,11],[47,0,47,11],[46,0,46,11],[45,0,45,11],[49,3,49,5],[49,6,49,8],[49,9,49,11],[58,9,58,11],[53,9,53,11],[54,9,54,11],[23,12,26,14],[27,12,31,14],[51,12,51,16],[52,12,52,16],[53,12,53,16],[54,12,54,16],[55,12,55,16],[50,0,50,11],[51,3,51,5],[52,3,52,5],[53,3,53,5],[54,3,54,5],[55,3,55,5],[51,6,51,8],[52,6,52,8],[53,6,53,8],[54,6,54,8],[55,6,55,8],[51,9,51,11],[52,9,52,11],[42,0,42,1],[23,15,26,17],[27,15,33,17],[56,12,56,16],[57,12,57,16],[63,0,69,22],[70,0,73,22],[60,3,60,5],[60,6,60,8],[60,9,60,11],[61,3,61,5],[61,0,61,2],[61,6,61,8],[61,9,61,11],[56,9,56,11],[57,9,57,11],[58,12,58,16],[58,0,58,2],[60,0,60,2],[56,3,56,5],[57,3,57,5],[58,3,58,5],[56,6,56,8],[57,6,57,8],[58,6,58,8]]}
["Обозначение исполнений кабельного ввода",null,null,"Код исполнения кабельного ввода по способу монтажа",null,null,null,"Шифр кабельного ввода",null,null,"Способ монтажа кабеля"]
["ЦКЛГ.713721.004",null,null,0,null,null,null,"КВВ-З",null,null,"Заглушка (без установки кабельного ввода)"]
["ЦКЛГ.687151.000",null,null,1,null,null,null,"КВВ-1-1",null,null,"Электромонтаж кабеля в трубе"]
["ЦКЛГ.687151.000-02",null,null,2,null,null,null,"КВВ-2-1",null,null,"Электромонтаж бронированного кабеля"]
["ЦКЛГ.687151.000-04",null,null,3,null,null,null,"КВВ-3-1",null,null,"Электромонтаж кабеля в металлорукаве"]
["ЦКЛГ.687151.000-06",null,null,4,null,null,null,"КВВ-4-1",null,null,"Электромонтаж кабеля без дополнительной оболочки"]
["ЦКЛГ.687151.000-08",null,null,5,null,null,null,"КВВ-5-1",null,null,"Электромонтаж кабеля в металлорукаве с ПВХ оболочкой"]
["-",null,null,"-",null,null,null,"-",null,null,"-"]
[]
["Код исполнения кабельного ввода по диаметру кабеля",null,null,"Минимальный и максимальный диаметр уплотняемого кабеля, мм",null,null,null,"Обозначение присоединительной резьбы (справочное)",null,null,"Код 1",null,"Размер","Код 2"]
[]
[]
[1,null,null,5,null,8,null,"М16×1,5",null,null,9,null,{"$f":"CONCATENATE(D13,\" - \",F13)","v":"5 - 8"},7,null,{"$f":"IF(T13=1,\"\",IF(K13=1,A13,IF(K13=2,A14,IF(K13=3,A15,IF(K13=4,A16,IF(K13=5,A17,IF(K13=6,A18,IF(K13=7,A19,IF(K13=8,A20,IF(K13=9,A21,))))))))))","v":"-"},{"$f":"IF(K13=1,H13,IF(K13=2,H14,IF(K13=3,H15,IF(K13=4,H16,IF(K13=5,H17,IF(K13=6,H18,IF(K13=7,H19,IF(K13=8,H20,IF(K13=9,H21,)))))))))","v":"-"},{"$f":"IF(N13=1,D2,IF(N13=2,D3,IF(N13=3,D4,IF(N13=4,D5,IF(N13=5,D6,IF(N13=6,D7,IF(N13=7,D8)))))))","v":"-"},{"$f":"IF(N13=1,H2,IF(N13=2,H3,IF(N13=3,H4,IF(N13=4,H5,IF(N13=5,H6,IF(N13=6,H7,IF(N13=7,H8)))))))","v":"-"},{"$f":"IF(AND(E28=3,AND(K13>4,K13<9)),1,0)","v":0}]
[2,null,null,7,null,10,null,"М16×1,5",null,null,9,null,"7 - 10",7,null,{"$f":"IF(T14=1,\"\",IF(K14=1,A13,IF(K14=2,A14,IF(K14=3,A15,IF(K14=4,A16,IF(K14=5,A17,IF(K14=6,A18,IF(K14=7,A19,IF(K14=8,A20,IF(K14=9,A21,))))))))))","v":"-"},{"$f":"IF(K14=1,H13,IF(K14=2,H14,IF(K14=3,H15,IF(K14=4,H16,IF(K14=5,H17,IF(K14=6,H18,IF(K14=7,H19,IF(K14=8,H20,IF(K14=9,H21,)))))))))","v":"-"},{"$f":"IF(N14=1,D2,IF(N14=2,D3,IF(N14=3,D4,IF(N14=4,D5,IF(N14=5,D6,IF(N14=6,D7,IF(N14=7,D8)))))))","v":"-"},{"$f":"IF(N14=1,H2,IF(N14=2,H3,IF(N14=3,H4,IF(N14=4,H5,IF(N14=5,H6,IF(N14=6,H7,IF(N14=7,H8)))))))","v":"-"},{"$f":"IF(AND(E28=3,AND(K14>4,K14<9)),1,0)","v":0},{"$f":"AND(E28=3,OR(K13>5,K14>5,K15>5,K16>5,K17>5,K18>5,K19>5,K20>5))","v":false}]
[3,null,null,9,null,13,null,"М20×1,5",null,null,9,null,"9 - 13",7,null,{"$f":"IF(T15=1,\"\",IF(K15=1,A13,IF(K15=2,A14,IF(K15=3,A15,IF(K15=4,A16,IF(K15=5,A17,IF(K15=6,A18,IF(K15=7,A19,IF(K15=8,A20,IF(K15=9,A21,))))))))))","v":"-"},{"$f":"IF(K15=1,H13,IF(K15=2,H14,IF(K15=3,H15,IF(K15=4,H16,IF(K15=5,H17,IF(K15=6,H18,IF(K15=7,H19,IF(K15=8,H20,IF(K15=9,H21,)))))))))","v":"-"},{"$f":"IF(N15=1,D2,IF(N15=2,D3,IF(N15=3,D4,IF(N15=4,D5,IF(N15=5,D6,IF(N15=6,D7,IF(N15=7,D8)))))))","v":"-"},{"$f":"IF(N15=1,H2,IF(N15=2,H3,IF(N15=3,H4,IF(N15=4,H5,IF(N15=5,H6,IF(N15=6,H7,IF(N15=7,H8)))))))","v":"-"},{"$f":"IF(AND(E28=3,AND(K15>4,K15<9)),1,0)","v":0}]
[4,null,null,12,null,16,null,"М24×1,5",null,null,9,null,"12 - 16",7,null,{"$f":"IF(T16=1,\"\",IF(K16=1,A13,IF(K16=2,A14,IF(K16=3,A15,IF(K16=4,A16,IF(K16=5,A17,IF(K16=6,A18,IF(K16=7,A19,IF(K16=8,A20,IF(K16=9,A21,))))))))))","v":"-"},{"$f":"IF(K16=1,H13,IF(K16=2,H14,IF(K16=3,H15,IF(K16=4,H16,IF(K16=5,H17,IF(K16=6,H18,IF(K16=7,H19,IF(K16=8,H20,IF(K16=9,H21,)))))))))","v":"-"},{"$f":"IF(N16=1,D2,IF(N16=2,D3,IF(N16=3,D4,IF(N16=4,D5,IF(N16=5,D6,IF(N16=6,D7,IF(N16=7,D8)))))))","v":"-"},{"$f":"IF(N16=1,H2,IF(N16=2,H3,IF(N16=3,H4,IF(N16=4,H5,IF(N16=5,H6,IF(N16=6,H7,IF(N16=7,H8)))))))","v":"-"},{"$f":"IF(AND(E28=3,AND(K16>4,K16<9)),1,0)","v":0}]
[5,null,null,15,null,20,null,"М27×1,5",null,null,9,null,{"$f":"IF(E28=3,\"\",CONCATENATE(D17,\" - \",F17))","v":"15 - 20"},7,null,{"$f":"IF(T17=1,\"\",IF(K17=1,A13,IF(K17=2,A14,IF(K17=3,A15,IF(K17=4,A16,IF(K17=5,A17,IF(K17=6,A18,IF(K17=7,A19,IF(K17=8,A20,IF(K17=9,A21,))))))))))","v":"-"},{"$f":"IF(K17=1,H13,IF(K17=2,H14,IF(K17=3,H15,IF(K17=4,H16,IF(K17=5,H17,IF(K17=6,H18,IF(K17=7,H19,IF(K17=8,H20,IF(K17=9,H21,)))))))))","v":"-"},{"$f":"IF(N17=1,D2,IF(N17=2,D3,IF(N17=3,D4,IF(N17=4,D5,IF(N17=5,D6,IF(N17=6,D7,IF(N17=7,D8)))))))","v":"-"},{"$f":"IF(N17=1,H2,IF(N17=2,H3,IF(N17=3,H4,IF(N17=4,H5,IF(N17=5,H6,IF(N17=6,H7,IF(N17=7,H8)))))))","v":"-"},{"$f":"IF(AND(E28=3,AND(K17>4,K17<9)),1,0)","v":0}]
[6,null,null,19,null,24,null,"М33×1,5",null,null,9,null,{"$f":"IF(E28=3,\"\",CONCATENATE(D18,\" - \",F18))","v":"19 - 24"},7,null,{"$f":"IF(T18=1,\"\",IF(K18=1,A13,IF(K18=2,A14,IF(K18=3,A15,IF(K18=4,A16,IF(K18=5,A17,IF(K18=6,A18,IF(K18=7,A19,IF(K18=8,A20,IF(K18=9,A21,))))))))))","v":"-"},{"$f":"IF(K18=1,H13,IF(K18=2,H14,IF(K18=3,H15,IF(K18=4,H16,IF(K18=5,H17,IF(K18=6,H18,IF(K18=7,H19,IF(K18=8,H20,IF(K18=9,H21,)))))))))","v":"-"},{"$f":"IF(N18=1,D2,IF(N18=2,D3,IF(N18=3,D4,IF(N18=4,D5,IF(N18=5,D6,IF(N18=6,D7,IF(N18=7,D8)))))))","v":"-"},{"$f":"IF(N18=1,H2,IF(N18=2,H3,IF(N18=3,H4,IF(N18=4,H5,IF(N18=5,H6,IF(N18=6,H7,IF(N18=7,H8)))))))","v":"-"},{"$f":"IF(AND(E28=3,AND(K18>4,K18<9)),1,0)","v":0}]
[7,null,null,23,null,28,null,"М39×1,5",null,null,9,null,{"$f":"IF(E28=3,\"\",CONCATENATE(D19,\" - \",F19))","v":"23 - 28"},7,null,{"$f":"IF(T19=1,\"\",IF(K19=1,A13,IF(K19=2,A14,IF(K19=3,A15,IF(K19=4,A16,IF(K19=5,A17,IF(K19=6,A18,IF(K19=7,A19,IF(K19=8,A20,IF(K19=9,A21,))))))))))","v":"-"},{"$f":"IF(K19=1,H13,IF(K19=2,H14,IF(K19=3,H15,IF(K19=4,H16,IF(K19=5,H17,IF(K19=6,H18,IF(K19=7,H19,IF(K19=8,H20,IF(K19=9,H21,)))))))))","v":"-"},{"$f":"IF(N19=1,D2,IF(N19=2,D3,IF(N19=3,D4,IF(N19=4,D5,IF(N19=5,D6,IF(N19=6,D7,IF(N19=7,D8)))))))","v":"-"},{"$f":"IF(N19=1,H2,IF(N19=2,H3,IF(N19=3,H4,IF(N19=4,H5,IF(N19=5,H6,IF(N19=6,H7,IF(N19=7,H8)))))))","v":"-"},{"$f":"IF(AND(E28=3,AND(K19>4,K19<9)),1,0)","v":0}]
[8,null,null,27,null,32,null,"М39×1,5",null,null,9,null,{"$f":"IF(E28=3,\"\",CONCATENATE(D20,\" - \",F20))","v":"27 - 32"},7,null,{"$f":"IF(T20=1,\"\",IF(K20=1,A13,IF(K20=2,A14,IF(K20=3,A15,IF(K20=4,A16,IF(K20=5,A17,IF(K20=6,A18,IF(K20=7,A19,IF(K20=8,A20,IF(K20=9,A21,))))))))))","v":"-"},{"$f":"IF(K20=1,H13,IF(K20=2,H14,IF(K20=3,H15,IF(K20=4,H16,IF(K20=5,H17,IF(K20=6,H18,IF(K20=7,H19,IF(K20=8,H20,IF(K20=9,H21,)))))))))","v":"-"},{"$f":"IF(N20=1,D2,IF(N20=2,D3,IF(N20=3,D4,IF(N20=4,D5,IF(N20=5,D6,IF(N20=6,D7,IF(N20=7,D8)))))))","v":"-"},{"$f":"IF(N20=1,H2,IF(N20=2,H3,IF(N20=3,H4,IF(N20=4,H5,IF(N20=5,H6,IF(N20=6,H7,IF(N20=7,H8)))))))","v":"-"},{"$f":"IF(AND(E28=3,AND(K20>4,K20<9)),1,0)","v":0}]
["-",null,null,"-",null,"-",null,"-",null,null,null,null,"-"]
[]
[]
["Максимальное количество кабельных вводов на сторонах: А/Б/В/Г",null,null,null,"Исполнение коробки",null,"Сообщение 1",null,null,"Сообщение 2",null,null,"Сообщение 3",null,null,"Сообщение 4"]
[]
[]
[]
[4,3,4,3,{"$f":"Габариты!I13","v":1},null,"(Превышено максимальное количество кабельных вводов)",null,null,"(Выберите способ монтажа кабельного ввода)",null,null,"(Введите требуемое количество кабельных вводов)",null,null,"При выборе исполнений кабельного ввода КВВ-1-1, КВВ-2-1, КВВ-3-1 или КВВ-5-1 - укажите в таблице конструкционные особенности заказа"]
[6,3,6,3]
[2,1,2,1]
[25,25,25,25]
[10,10,10,10]
[]
["Количество кабельных вводов"]
["Сторона А",null,"Сторона Б",null,null,"Сторона В",null,null,"Сторона Г"]
[{"$f":"IF('Опросный лист'!B73=\"-\",0,'Опросный лист'!B73)","v":0},null,{"$f":"IF('Опросный лист'!D73=\"-\",0,'Опросный лист'!D73)","v":0},null,null,{"$f":"IF('Опросный лист'!G73=\"-\",0,'Опросный лист'!G73)","v":0},null,null,{"$f":"IF('Опросный лист'!J73=\"-\",0,'Опросный лист'!J73)","v":0}]
[{"$f":"IF('Опросный лист'!B74=\"-\",0,'Опросный лист'!B74)","v":0},null,{"$f":"IF('Опросный лист'!D74=\"-\",0,'Опросный лист'!D74)","v":0},null,null,{"$f":"IF('Опросный лист'!G74=\"-\",0,'Опросный лист'!G74)","v":0},null,null,{"$f":"IF('Опросный лист'!J74=\"-\",0,'Опросный лист'!J74)","v":0}]
[{"$f":"IF('Опросный лист'!B75=\"-\",0,'Опросный лист'!B75)","v":0},null,{"$f":"IF('Опросный лист'!D75=\"-\",0,'Опросный лист'!D75)","v":0},null,null,{"$f":"IF('Опросный лист'!G75=\"-\",0,'Опросный лист'!G75)","v":0},null,null,{"$f":"IF('Опросный лист'!J75=\"-\",0,'Опросный лист'!J75)","v":0}]
[{"$f":"IF('Опросный лист'!B76=\"-\",0,'Опросный лист'!B76)","v":0},null,{"$f":"IF('Опросный лист'!D76=\"-\",0,'Опросный лист'!D76)","v":0},null,null,{"$f":"IF('Опросный лист'!G76=\"-\",0,'Опросный лист'!G76)","v":0},null,null,{"$f":"IF('Опросный лист'!J76=\"-\",0,'Опросный лист'!J76)","v":0}]
[{"$f":"IF('Опросный лист'!B77=\"-\",0,'Опросный лист'!B77)","v":0},null,{"$f":"IF('Опросный лист'!D77=\"-\",0,'Опросный лист'!D77)","v":0},null,null,{"$f":"IF('Опросный лист'!G77=\"-\",0,'Опросный лист'!G77)","v":0},null,null,{"$f":"IF('Опросный лист'!J77=\"-\",0,'Опросный лист'!J77)","v":0}]
[{"$f":"IF('Опросный лист'!B78=\"-\",0,'Опросный лист'!B78)","v":0},null,{"$f":"IF('Опросный лист'!D78=\"-\",0,'Опросный лист'!D78)","v":0},null,null,{"$f":"IF('Опросный лист'!G78=\"-\",0,'Опросный лист'!G78)","v":0},null,null,{"$f":"IF('Опросный лист'!J78=\"-\",0,'Опросный лист'!J78)","v":0}]
[{"$f":"IF('Опросный лист'!B79=\"-\",0,'Опросный лист'!B79)","v":0},null,{"$f":"IF('Опросный лист'!D79=\"-\",0,'Опросный лист'!D79)","v":0},null,null,{"$f":"IF('Опросный лист'!G79=\"-\",0,'Опросный лист'!G79)","v":0},null,null,{"$f":"IF('Опросный лист'!J79=\"-\",0,'Опросный лист'!J79)","v":0}]
[{"$f":"IF('Опросный лист'!B80=\"-\",0,'Опросный лист'!B80)","v":0},null,{"$f":"IF('Опросный лист'!D80=\"-\",0,'Опросный лист'!D80)","v":0},null,null,{"$f":"IF('Опросный лист'!G80=\"-\",0,'Опросный лист'!G80)","v":0},null,null,{"$f":"IF('Опросный лист'!J80=\"-\",0,'Опросный лист'!J80)","v":0}]
[]
[]
["Логическая ячейка 1. Проверка правильности ввода данных"]
[{"$f":"IF(OR(AND(NOT(K13=9),N13=7),AND(NOT(K14=9),N14=7),AND(NOT(K15=9),N15=7),AND(NOT(K16=9),N16=7),AND(NOT(K17=9),N17=7),AND(NOT(K18=9),N18=7),AND(NOT(K19=9),N19=7),AND(NOT(K20=9),N20=7)),J28,\"норма\")","v":"норма"}]
["Логическая ячейка 2. Проверка количества кабельных вводов"]
["Сторона А",null,null,"Сторона Б",null,null,"Сторона В",null,null,"Сторона Г"]
[{"$f":"IF(AND(E28=1,SUM(A36:B43)>A28),G28,IF(AND(E28=2,SUM(A36:B43)>A29),G28,IF(AND(E28=3,SUM(A36:B43)>A30),G28,IF(AND(E28=4,SUM(A36:B43)>A31),G28,IF(AND(E28=5,SUM(A36:B43)>A32),G28,\"Норма\")))))","v":"Норма"},null,null,{"$f":"IF(AND(E28=1,SUM(C36:E43)>B28),G28,IF(AND(E28=2,SUM(C36:E43)>B29),G28,IF(AND(E28=3,SUM(C36:E43)>B30),G28,IF(AND(E28=4,SUM(C36:E43)>B31),G28,IF(AND(E28=5,SUM(C36:E43)>B32),G28,\"Норма\")))))","v":"Норма"},null,null,{"$f":"IF(AND(E28=1,SUM(F36:H43)>C28),G28,IF(AND(E28=2,SUM(F36:H43)>C29),G28,IF(AND(E28=3,SUM(F36:H43)>C30),G28,IF(AND(E28=4,SUM(F36:H43)>C31),G28,IF(AND(E28=5,SUM(F36:H43)>C32),G28,\"Норма\")))))","v":"Норма"},null,null,{"$f":"IF(AND(E28=1,SUM(I36:K43)>D28),G28,IF(AND(E28=2,SUM(I36:K43)>D29),G28,IF(AND(E28=3,SUM(I36:K43)>D30),G28,IF(AND(E28=4,SUM(I36:K43)>D31),G28,IF(AND(E28=5,SUM(I36:K43)>D32),G28,\"Норма\")))))","v":"Норма"},null,null,null,null,null,null,null,{"$f":"IF(OR(A50=G28,D50=G28,G50=G28,J50=E28),\"Х\",\"НОРМА\")","v":"НОРМА"}]
["Логическая ячейка 3. Сшивка по сторонам"]
[{"$f":"IF(M52=\"норма\",IF(AND(NOT(K13=9),NOT(A36=0)),CONCATENATE(A36,R13,K13),0),M52)","v":0},null,null,{"$f":"IF(M52=\"норма\",IF(AND(NOT(K13=9),NOT(C36=0)),CONCATENATE(C36,R13,K13),0),M52)","v":0},null,null,{"$f":"IF(M52=\"норма\",IF(AND(NOT(K13=9),NOT(F36=0)),CONCATENATE(F36,R13,K13),0),M52)","v":0},null,null,{"$f":"IF(M52=\"норма\",IF(AND(NOT(K13=9),NOT(I36=0)),CONCATENATE(I36,R13,K13),0),M52)","v":0},null,null,{"$f":"IF(OR(AND(NOT(K13=9),NOT(N13=7),A36=0,C36=0,F36=0,I36=0)),M28,\"норма\")","v":"норма"}]
[{"$f":"IF(M53=\"норма\",IF(AND(NOT(K14=9),NOT(A37=0)),CONCATENATE(IF(NOT(A52=0),\" - \",\"\"),A37,R14,K14),0),M53)","v":0},null,null,{"$f":"IF(M53=\"норма\",IF(AND(NOT(K14=9),NOT(C37=0)),CONCATENATE(IF(NOT(D52=0),\" - \",\"\"),C37,R14,K14),0),M53)","v":0},null,null,{"$f":"IF(M53=\"норма\",IF(AND(NOT(K14=9),NOT(F37=0)),CONCATENATE(IF(NOT(G52=0),\" - \",\"\"),F37,R14,K14),0),M53)","v":0},null,null,{"$f":"IF(M53=\"норма\",IF(AND(NOT(K14=9),NOT(I37=0)),CONCATENATE(IF(NOT(J52=0),\" - \",\"\"),I37,R14,K14),0),M53)","v":0},null,null,{"$f":"IF(OR(AND(NOT(K14=9),NOT(N14=7),A37=0,C37=0,F37=0,I37=0)),M28,\"норма\")","v":"норма"}]
[0,null,null,0,null,null,0,null,null,0,null,null,{"$f":"IF(OR(AND(NOT(K15=9),NOT(N15=7),A38=0,C38=0,F38=0,I38=0)),M28,\"норма\")","v":"норма"}]
[0,null,null,0,null,null,0,null,null,0,null,null,{"$f":"IF(OR(AND(NOT(K16=9),NOT(N16=7),A39=0,C39=0,F39=0,I39=0)),M28,\"норма\")","v":"норма"}]
[0,null,null,0,null,null,0,null,null,0,null,null,{"$f":"IF(OR(AND(NOT(K17=9),NOT(N17=7),A40=0,C40=0,F40=0,I40=0)),M28,\"норма\")","v":"норма"}]
[0,null,null,0,null,null,0,null,null,0,null,null,{"$f":"IF(OR(AND(NOT(K18=9),NOT(N18=7),A41=0,C41=0,F41=0,I41=0)),M28,\"норма\")","v":"норма"}]
[0,null,null,0,null,null,0,null,null,0,null,null,{"$f":"IF(OR(AND(NOT(K19=9),NOT(N19=7),A42=0,C42=0,F42=0,I42=0)),M28,\"норма\")","v":"норма"}]
[0,null,null,0,null,null,0,null,null,0,null,null,{"$f":"IF(OR(AND(NOT(K20=9),NOT(N20=7),A43=0,C43=0,F43=0,I43=0)),M28,\"норма\")","v":"норма"}]
[]
[{"$f":"CONCATENATE(IF(AND(A52=0,A53=0,A54=0,A55=0,A56=0,A57=0,A58=0,A59=0),\"\",\"(\"),IF(A52=0,\"\",A52),IF(A53=0,\"\",A53),IF(A54=0,\"\",A54),IF(A55=0,\"\",A55),IF(A56=0,\"\",A56),IF(A57=0,\"\",A57),IF(A58=0,\"\",A58),IF(A59=0,\"\",A59),IF(AND(A52=0,A53=0,A54=0,A55=0,A56=0,A57=0,A58=0,A59=0),\"\",\")\"))","v":""},null,null,{"$f":"CONCATENATE(IF(AND(D52=0,D53=0,D54=0,D55=0,D56=0,D57=0,D58=0,D59=0),\"\",\"(\"),IF(D52=0,\"\",D52),IF(D53=0,\"\",D53),IF(D54=0,\"\",D54),IF(D55=0,\"\",D55),IF(D56=0,\"\",D56),IF(D57=0,\"\",D57),IF(D58=0,\"\",D58),IF(D59=0,\"\",D59),IF(AND(D52=0,D53=0,D54=0,D55=0,D56=0,D57=0,D58=0,D59=0),\"\",\")\"))","v":""},null,null,{"$f":"CONCATENATE(IF(AND(G52=0,G53=0,G54=0,G55=0,G56=0,G57=0,G58=0,G59=0),\"\",\"(\"),IF(G52=0,\"\",G52),IF(G53=0,\"\",G53),IF(G54=0,\"\",G54),IF(G55=0,\"\",G55),IF(G56=0,\"\",G56),IF(G57=0,\"\",G57),IF(G58=0,\"\",G58),IF(G59=0,\"\",G59),IF(AND(G52=0,G53=0,G54=0,G55=0,G56=0,G57=0,G58=0,G59=0),\"\",\")\"))","v":""},null,null,{"$f":"CONCATENATE(IF(AND(J52=0,J53=0,J54=0,J55=0,J56=0,J57=0,J58=0,J59=0),\"\",\"(\"),IF(J52=0,\"\",J52),IF(J53=0,\"\",J53),IF(J54=0,\"\",J54),IF(J55=0,\"\",J55),IF(J56=0,\"\",J56),IF(J57=0,\"\",J57),IF(J58=0,\"\",J58),IF(J59=0,\"\",J59),IF(AND(J52=0,J53=0,J54=0,J55=0,J56=0,J57=0,J58=0,J59=0),\"\",\")\"))","v":""}]
[{"$f":"IF(AND(E28=1,SUM(A36:B43)>A28),G28,IF(AND(E28=2,SUM(A36:B43)>A29),G28,IF(AND(E28=3,SUM(A36:B43)>A30),G28,IF(AND(E28=4,SUM(A36:B43)>A31),G28,IF(AND(E28=5,SUM(A36:B43)>A32),G28,A61)))))","v":""},null,null,{"$f":"IF(AND(E28=1,SUM(C36:E43)>B28),G28,IF(AND(E28=2,SUM(C36:E43)>B29),G28,IF(AND(E28=3,SUM(C36:E43)>B30),G28,IF(AND(E28=4,SUM(C36:E43)>B31),G28,IF(AND(E28=5,SUM(C36:E43)>B32),G28,D61)))))","v":""},null,null,{"$f":"IF(AND(E28=1,SUM(F36:H43)>C28),G28,IF(AND(E28=2,SUM(F36:H43)>C29),G28,IF(AND(E28=3,SUM(F36:H43)>C30),G28,IF(AND(E28=4,SUM(F36:H43)>C31),G28,IF(AND(E28=5,SUM(F36:H43)>C32),G28,G61)))))","v":""},null,null,{"$f":"IF(AND(E28=1,SUM(I36:K43)>D28),G28,IF(AND(E28=2,SUM(I36:K43)>D29),G28,IF(AND(E28=3,SUM(I36:K43)>D30),G28,IF(AND(E28=4,SUM(I36:K43)>D31),G28,IF(AND(E28=5,SUM(I36:K43)>D32),G28,J61)))))","v":""},null,null,null,null,null,null,null,{"$f":"IF(OR(M52=M28,M53=M28,M54=M28,M55=M28,M56=M28,M57=M28,M58=M28,M59=M28),\"Х\",\"НОРМА\")","v":"НОРМА"}]
[]
[{"$f":"IF(OR(T13=1,T14=1,T15=1,T16=1,T17=1,T18=1,T19=1,T20=1),\"Уточните диаметр уплотняемого кабеля\",CONCATENATE(IF(A62=\"\",\"\",\"А\"),A62,IF(D62=\"\",\"\",\" Б\"),D62,IF(G62=\"\",\"\",\" В\"),G62,IF(J62=\"\",\"\",\" Г\"),J62))","v":""}]
[]
[]
[]
[]
[]
[]
[{"$f":"IF(OR(AND(NOT(K13=9),N13=7),AND(NOT(K14=9),N14=7),AND(NOT(K15=9),N15=7),AND(NOT(K16=9),N16=7),AND(NOT(K17=9),N17=7),AND(NOT(K18=9),N18=7),AND(NOT(K19=9),N19=7),AND(NOT(K20=9),N20=7)),J28,A64)","v":""}]
[]
[]
[]
[]
[]
["Код исполнения кабельного ввода по способу монтажа кабеля"]
[]
[{"$f":"'Опросный лист'!M51","v":"-"},null,null,null,null,null,{"$f":"IF(A79=0,\"-\",IF(A79=1,A90,IF(A79=2,A91,IF(A79=3,A92,IF(A79=4,\"-\",IF(A79=5,A92,IF(OR(A79=\"-\",0),\"-\")))))))","v":"-"},null,null,null,null,null,{"$f":"'Опросный лист'!F62","v":0},null,null,null,null,null,{"$f":"IF(G79=\"-\",\"\",CONCATENATE(\"(\",G79,\" для \",\"/\",X79,\"/\", \"  - \",M79,\")\"))","v":""},null,null,null,null,{"$f":"'Опросный лист'!P51","v":"-"}]
[{"$f":"'Опросный лист'!M52","v":"-"},null,null,null,null,null,{"$f":"IF(A80=0,\"-\",IF(A80=1,A90,IF(A80=2,A91,IF(A80=3,A92,IF(A80=4,\"-\",IF(A80=5,A92,IF(OR(A80=\"-\",0),\"-\")))))))","v":"-"},null,null,null,null,null,{"$f":"'Опросный лист'!F63","v":0},null,null,null,null,null,{"$f":"IF(G80=\"-\",\"\",CONCATENATE(\"(\",G80,\" для \",\"/\",X80,\"/\", \"  - \",M80,\")\"))","v":""},null,null,null,null,{"$f":"'Опросный лист'!P52","v":"-"}]
[{"$f":"'Опросный лист'!M53","v":"-"},null,null,null,null,null,{"$f":"IF(A81=0,\"-\",IF(A81=1,A90,IF(A81=2,A91,IF(A81=3,A92,IF(A81=4,\"-\",IF(A81=5,A92,IF(OR(A81=\"-\",0),\"-\")))))))","v":"-"},null,null,null,null,null,{"$f":"'Опросный лист'!F64","v":0},null,null,null,null,null,"",null,null,null,null,{"$f":"'Опросный лист'!P53","v":"-"}]
[{"$f":"'Опросный лист'!M54","v":"-"},null,null,null,null,null,{"$f":"IF(A82=0,\"-\",IF(A82=1,A90,IF(A82=2,A91,IF(A82=3,A92,IF(A82=4,\"-\",IF(A82=5,A92,IF(OR(A82=\"-\",0),\"-\")))))))","v":"-"},null,null,null,null,null,{"$f":"'Опросный лист'!F65","v":0},null,null,null,null,null,"",null,null,null,null,{"$f":"'Опросный лист'!P54","v":"-"}]
[{"$f":"'Опросный лист'!M55","v":"-"},null,null,null,null,null,{"$f":"IF(A83=0,\"-\",IF(A83=1,A90,IF(A83=2,A91,IF(A83=3,A92,IF(A83=4,\"-\",IF(A83=5,A92,IF(OR(A83=\"-\",0),\"-\")))))))","v":"-"},null,null,null,null,null,{"$f":"'Опросный лист'!F66","v":0},null,null,null,null,null,"",null,null,null,null,{"$f":"'Опросный лист'!P55","v":"-"}]
[{"$f":"'Опросный лист'!M56","v":"-"},null,null,null,null,null,{"$f":"IF(A84=0,\"-\",IF(A84=1,A90,IF(A84=2,A91,IF(A84=3,A92,IF(A84=4,\"-\",IF(A84=5,A92,IF(OR(A84=\"-\",0),\"-\")))))))","v":"-"},null,null,null,null,null,{"$f":"'Опросный лист'!F67","v":0},null,null,null,null,null,"",null,null,null,null,{"$f":"'Опросный лист'!P56","v":"-"}]
[{"$f":"'Опросный лист'!M57","v":"-"},null,null,null,null,null,{"$f":"IF(A85=0,\"-\",IF(A85=1,A90,IF(A85=2,A91,IF(A85=3,A92,IF(A85=4,\"-\",IF(A85=5,A92,IF(OR(A85=\"-\",0),\"-\")))))))","v":"-"},null,null,null,null,null,{"$f":"'Опросный лист'!F68","v":0},null,null,null,null,null,"",null,null,null,null,{"$f":"'Опросный лист'!P57","v":"-"}]
[{"$f":"'Опросный лист'!M58","v":"-"},null,null,null,null,null,{"$f":"IF(A86=0,\"-\",IF(A86=1,A90,IF(A86=2,A91,IF(A86=3,A92,IF(A86=4,\"-\",IF(A86=5,A92,IF(OR(A86=\"-\",0),\"-\")))))))","v":"-"},null,null,null,null,null,{"$f":"'Опросный лист'!F69","v":0},null,null,null,null,null,"",null,null,null,null,{"$f":"'Опросный лист'!P58","v":"-"}]
[]
[]
["Сообщения"]
["обозначение присоединительной резьбы к  трубе",null,null,null,null,null,"КВВ-1",null,1,null,null,null,null,null,null,null,{"$f":"IF(A71=J28,\"Х\",\"НОРМА\")","v":"НОРМА"}]
["значение диаметра кабеля после разделки брони",null,null,null,null,null,"КВВ-2",null,2,null,null,null,null,null,null,null,{"$f":"IF(OR(AND(NOT(G79=\"-\"),M79=0,NOT(K13=9)),AND(NOT(G80=\"-\"),M80=0,NOT(K14=9)),AND(NOT(G81=\"-\"),M81=0,NOT(K15=9)),AND(NOT(G82=\"-\"),M82=0,NOT(K16=9)),AND(NOT(G83=\"-\"),M83=0,NOT(K17=9)),AND(NOT(G84=\"-\"),M84=0,NOT(K18=9)),AND(NOT(G85=\"-\"),M85=0,NOT(K19=9)),AND(NOT(G86=\"-\"),M86=0,NOT(K20=9))),\"Х\",1)","v":1}]
["обозначение типа и Ду  металлорукава",null,null,null,null,null,"КВВ-3, КВВ-5",null,"3, 5"]
[]
[{"$f":"CONCATENATE(\"[\",\"Особенности кабельных вводов - \",S79,S80,S81,S82,S83,S84,S85,S86,\"]\")","v":"[Особенности кабельных вводов - ]"}]
[]
[]
[]
[{"$f":"IF(AND(G79=\"-\",G80=\"-\",G81=\"-\",G82=\"-\",G83=\"-\",G84=\"-\",G85=\"-\",G86=\"-\"),\"\",A94)","v":""}]